BEGIN:VCALENDAR
VERSION:2.0
PRODID:-//SCB Escalade - ECPv6.15.20//NONSGML v1.0//EN
CALSCALE:GREGORIAN
METHOD:PUBLISH
X-ORIGINAL-URL:https://escaladescb.fr
X-WR-CALDESC:Évènements pour SCB Escalade
REFRESH-INTERVAL;VALUE=DURATION:PT1H
X-Robots-Tag:noindex
X-PUBLISHED-TTL:PT1H
BEGIN:VTIMEZONE
TZID:Europe/Paris
BEGIN:DAYLIGHT
TZOFFSETFROM:+0100
TZOFFSETTO:+0200
TZNAME:CEST
DTSTART:20230326T010000
END:DAYLIGHT
BEGIN:STANDARD
TZOFFSETFROM:+0200
TZOFFSETTO:+0100
TZNAME:CET
DTSTART:20231029T010000
END:STANDARD
BEGIN:DAYLIGHT
TZOFFSETFROM:+0100
TZOFFSETTO:+0200
TZNAME:CEST
DTSTART:20240331T010000
END:DAYLIGHT
BEGIN:STANDARD
TZOFFSETFROM:+0200
TZOFFSETTO:+0100
TZNAME:CET
DTSTART:20241027T010000
END:STANDARD
BEGIN:DAYLIGHT
TZOFFSETFROM:+0100
TZOFFSETTO:+0200
TZNAME:CEST
DTSTART:20250330T010000
END:DAYLIGHT
BEGIN:STANDARD
TZOFFSETFROM:+0200
TZOFFSETTO:+0100
TZNAME:CET
DTSTART:20251026T010000
END:STANDARD
END:VTIMEZONE
BEGIN:VEVENT
DTSTART;TZID=Europe/Paris:20241202T193000
DTEND;TZID=Europe/Paris:20241202T223000
DTSTAMP:20260422T050922
CREATED:20241128T123212Z
LAST-MODIFIED:20241128T123212Z
UID:2826-1733167800-1733178600@escaladescb.fr
SUMMARY:Permanence (Avrillé)
DESCRIPTION:
URL:https://escaladescb.fr/event/permanence-avrille-482/
END:VEVENT
BEGIN:VEVENT
DTSTART;TZID=Europe/Paris:20241203T203000
DTEND;TZID=Europe/Paris:20241203T223000
DTSTAMP:20260422T050922
CREATED:20241128T124217Z
LAST-MODIFIED:20241128T124217Z
UID:2851-1733257800-1733265000@escaladescb.fr
SUMMARY:Permanence (Beaucouzé)
DESCRIPTION:
URL:https://escaladescb.fr/event/permanence-beaucouze-115/
END:VEVENT
BEGIN:VEVENT
DTSTART;TZID=Europe/Paris:20241204T193000
DTEND;TZID=Europe/Paris:20241204T223000
DTSTAMP:20260422T050922
CREATED:20241128T123447Z
LAST-MODIFIED:20241128T123447Z
UID:2832-1733340600-1733351400@escaladescb.fr
SUMMARY:Permanence (Avrillé)
DESCRIPTION:
URL:https://escaladescb.fr/event/permanence-avrille-494/
END:VEVENT
BEGIN:VEVENT
DTSTART;TZID=Europe/Paris:20241205T203000
DTEND;TZID=Europe/Paris:20241205T223000
DTSTAMP:20260422T050922
CREATED:20241128T123740Z
LAST-MODIFIED:20241128T123740Z
UID:2839-1733430600-1733437800@escaladescb.fr
SUMMARY:Permanence (Avrillé)
DESCRIPTION:
URL:https://escaladescb.fr/event/permanence-avrille-497/
END:VEVENT
BEGIN:VEVENT
DTSTART;TZID=Europe/Paris:20241207T143000
DTEND;TZID=Europe/Paris:20241207T173000
DTSTAMP:20260422T050922
CREATED:20241128T124006Z
LAST-MODIFIED:20241128T124006Z
UID:2845-1733581800-1733592600@escaladescb.fr
SUMMARY:Permanence (Avrillé)
DESCRIPTION:
URL:https://escaladescb.fr/event/permanence-avrille-500/
END:VEVENT
BEGIN:VEVENT
DTSTART;TZID=Europe/Paris:20241209T193000
DTEND;TZID=Europe/Paris:20241209T223000
DTSTAMP:20260422T050922
CREATED:20241128T123252Z
LAST-MODIFIED:20241128T123252Z
UID:2828-1733772600-1733783400@escaladescb.fr
SUMMARY:Permanence (Avrillé)
DESCRIPTION:
URL:https://escaladescb.fr/event/permanence-avrille-492/
END:VEVENT
BEGIN:VEVENT
DTSTART;TZID=Europe/Paris:20241210T203000
DTEND;TZID=Europe/Paris:20241210T223000
DTSTAMP:20260422T050922
CREATED:20241128T124311Z
LAST-MODIFIED:20241128T124311Z
UID:2853-1733862600-1733869800@escaladescb.fr
SUMMARY:Permanence (Beaucouzé)
DESCRIPTION:
URL:https://escaladescb.fr/event/permanence-beaucouze-116/
END:VEVENT
BEGIN:VEVENT
DTSTART;TZID=Europe/Paris:20241211T193000
DTEND;TZID=Europe/Paris:20241211T223000
DTSTAMP:20260422T050922
CREATED:20241128T123536Z
LAST-MODIFIED:20241128T123536Z
UID:2834-1733945400-1733956200@escaladescb.fr
SUMMARY:Permanence (Avrillé)
DESCRIPTION:
URL:https://escaladescb.fr/event/permanence-avrille-495/
END:VEVENT
BEGIN:VEVENT
DTSTART;TZID=Europe/Paris:20241212T203000
DTEND;TZID=Europe/Paris:20241212T220000
DTSTAMP:20260422T050922
CREATED:20241128T123858Z
LAST-MODIFIED:20241128T123858Z
UID:2841-1734035400-1734040800@escaladescb.fr
SUMMARY:Permanence (Avrillé)
DESCRIPTION:
URL:https://escaladescb.fr/event/permanence-avrille-498/
END:VEVENT
BEGIN:VEVENT
DTSTART;TZID=Europe/Paris:20241215T090000
DTEND;TZID=Europe/Paris:20241215T120000
DTSTAMP:20260422T050922
CREATED:20241128T124048Z
LAST-MODIFIED:20241128T124048Z
UID:2847-1734253200-1734264000@escaladescb.fr
SUMMARY:Permanence (Avrillé)
DESCRIPTION:
URL:https://escaladescb.fr/event/permanence-avrille-501/
END:VEVENT
BEGIN:VEVENT
DTSTART;TZID=Europe/Paris:20241216T193000
DTEND;TZID=Europe/Paris:20241216T223000
DTSTAMP:20260422T050922
CREATED:20241128T123341Z
LAST-MODIFIED:20241128T123341Z
UID:2830-1734377400-1734388200@escaladescb.fr
SUMMARY:Permanence (Avrillé)
DESCRIPTION:
URL:https://escaladescb.fr/event/permanence-avrille-493/
END:VEVENT
BEGIN:VEVENT
DTSTART;TZID=Europe/Paris:20241217T203000
DTEND;TZID=Europe/Paris:20241217T223000
DTSTAMP:20260422T050922
CREATED:20241128T124329Z
LAST-MODIFIED:20241128T124329Z
UID:2855-1734467400-1734474600@escaladescb.fr
SUMMARY:Permanence (Beaucouzé)
DESCRIPTION:
URL:https://escaladescb.fr/event/permanence-beaucouze-117/
END:VEVENT
BEGIN:VEVENT
DTSTART;TZID=Europe/Paris:20241218T193000
DTEND;TZID=Europe/Paris:20241218T223000
DTSTAMP:20260422T050922
CREATED:20241128T123607Z
LAST-MODIFIED:20241128T123651Z
UID:2836-1734550200-1734561000@escaladescb.fr
SUMMARY:Permanence (Avrillé)
DESCRIPTION:
URL:https://escaladescb.fr/event/permanence-avrille-496/
END:VEVENT
BEGIN:VEVENT
DTSTART;TZID=Europe/Paris:20241219T193000
DTEND;TZID=Europe/Paris:20241219T223000
DTSTAMP:20260422T050922
CREATED:20241128T123932Z
LAST-MODIFIED:20241128T123932Z
UID:2843-1734636600-1734647400@escaladescb.fr
SUMMARY:Permanence (Avrillé)
DESCRIPTION:
URL:https://escaladescb.fr/event/permanence-avrille-499/
END:VEVENT
BEGIN:VEVENT
DTSTART;TZID=Europe/Paris:20241221T143000
DTEND;TZID=Europe/Paris:20241221T173000
DTSTAMP:20260422T050922
CREATED:20241128T124120Z
LAST-MODIFIED:20241128T124120Z
UID:2849-1734791400-1734802200@escaladescb.fr
SUMMARY:Permanence (Avrillé)
DESCRIPTION:
URL:https://escaladescb.fr/event/permanence-avrille-502/
END:VEVENT
END:VCALENDAR