BEGIN:VCALENDAR
VERSION:2.0
PRODID:-//SCB Escalade - ECPv6.15.20//NONSGML v1.0//EN
CALSCALE:GREGORIAN
METHOD:PUBLISH
X-ORIGINAL-URL:https://escaladescb.fr
X-WR-CALDESC:Évènements pour SCB Escalade
REFRESH-INTERVAL;VALUE=DURATION:PT1H
X-Robots-Tag:noindex
X-PUBLISHED-TTL:PT1H
BEGIN:VTIMEZONE
TZID:Europe/Paris
BEGIN:DAYLIGHT
TZOFFSETFROM:+0100
TZOFFSETTO:+0200
TZNAME:CEST
DTSTART:20230326T010000
END:DAYLIGHT
BEGIN:STANDARD
TZOFFSETFROM:+0200
TZOFFSETTO:+0100
TZNAME:CET
DTSTART:20231029T010000
END:STANDARD
BEGIN:DAYLIGHT
TZOFFSETFROM:+0100
TZOFFSETTO:+0200
TZNAME:CEST
DTSTART:20240331T010000
END:DAYLIGHT
BEGIN:STANDARD
TZOFFSETFROM:+0200
TZOFFSETTO:+0100
TZNAME:CET
DTSTART:20241027T010000
END:STANDARD
BEGIN:DAYLIGHT
TZOFFSETFROM:+0100
TZOFFSETTO:+0200
TZNAME:CEST
DTSTART:20250330T010000
END:DAYLIGHT
BEGIN:STANDARD
TZOFFSETFROM:+0200
TZOFFSETTO:+0100
TZNAME:CET
DTSTART:20251026T010000
END:STANDARD
END:VTIMEZONE
BEGIN:VEVENT
DTSTART;TZID=Europe/Paris:20241104T193000
DTEND;TZID=Europe/Paris:20241104T223000
DTSTAMP:20260422T035710
CREATED:20241106T220111Z
LAST-MODIFIED:20241106T220111Z
UID:2671-1730748600-1730759400@escaladescb.fr
SUMMARY:Permanence (Avrillé)
DESCRIPTION:
URL:https://escaladescb.fr/event/permanence-avrille-490/
LOCATION:Salle Marie Paradis\, Avenue de la Ronde\, Avrillé\, 49240\, France
CATEGORIES:Permanences
END:VEVENT
BEGIN:VEVENT
DTSTART;TZID=Europe/Paris:20241107T203000
DTEND;TZID=Europe/Paris:20241107T223000
DTSTAMP:20260422T035710
CREATED:20241106T215522Z
LAST-MODIFIED:20241106T215522Z
UID:2656-1731011400-1731018600@escaladescb.fr
SUMMARY:Permanence (Avrillé)
DESCRIPTION:
URL:https://escaladescb.fr/event/permanence-avrille-483/
LOCATION:Salle Marie Paradis\, Avenue de la Ronde\, Avrillé\, 49240\, France
CATEGORIES:Permanences
END:VEVENT
BEGIN:VEVENT
DTSTART;TZID=Europe/Paris:20241111T193000
DTEND;TZID=Europe/Paris:20241111T223000
DTSTAMP:20260422T035710
CREATED:20241106T214810Z
LAST-MODIFIED:20241106T214810Z
UID:2644-1731353400-1731364200@escaladescb.fr
SUMMARY:Permanence (Avrillé)
DESCRIPTION:
URL:https://escaladescb.fr/event/permanence-avrille-479/
LOCATION:Salle Marie Paradis\, Avenue de la Ronde\, Avrillé\, 49240\, France
CATEGORIES:Permanences
END:VEVENT
BEGIN:VEVENT
DTSTART;TZID=Europe/Paris:20241112T203000
DTEND;TZID=Europe/Paris:20241112T223000
DTSTAMP:20260422T035710
CREATED:20241106T215156Z
LAST-MODIFIED:20241106T215156Z
UID:2646-1731443400-1731450600@escaladescb.fr
SUMMARY:Permanence (Beaucouzé)
DESCRIPTION:
URL:https://escaladescb.fr/event/permanence-beaucouze-112/
LOCATION:Complexe Jacques Aubineau\, salle Pierre de Coubertin\, 5 Bis Avenue de la Grange aux Belles\, Beaucouzé\, 49070\, France
CATEGORIES:Permanences
END:VEVENT
BEGIN:VEVENT
DTSTART;TZID=Europe/Paris:20241113T193000
DTEND;TZID=Europe/Paris:20241113T223000
DTSTAMP:20260422T035710
CREATED:20241106T215722Z
LAST-MODIFIED:20241106T215722Z
UID:2662-1731526200-1731537000@escaladescb.fr
SUMMARY:Permanence (Avrillé)
DESCRIPTION:
URL:https://escaladescb.fr/event/permanence-avrille-486/
LOCATION:Salle Marie Paradis\, Avenue de la Ronde\, Avrillé\, 49240\, France
CATEGORIES:Permanences
END:VEVENT
BEGIN:VEVENT
DTSTART;TZID=Europe/Paris:20241114T203000
DTEND;TZID=Europe/Paris:20241114T223000
DTSTAMP:20260422T035710
CREATED:20241106T215550Z
LAST-MODIFIED:20241106T215550Z
UID:2658-1731616200-1731623400@escaladescb.fr
SUMMARY:Permanence (Avrillé)
DESCRIPTION:
URL:https://escaladescb.fr/event/permanence-avrille-484/
LOCATION:Salle Marie Paradis\, Avenue de la Ronde\, Avrillé\, 49240\, France
CATEGORIES:Permanences
END:VEVENT
BEGIN:VEVENT
DTSTART;TZID=Europe/Paris:20241116T143000
DTEND;TZID=Europe/Paris:20241116T173000
DTSTAMP:20260422T035710
CREATED:20241106T215353Z
LAST-MODIFIED:20241106T220559Z
UID:2652-1731767400-1731778200@escaladescb.fr
SUMMARY:Permanence (Avrillé)
DESCRIPTION:
URL:https://escaladescb.fr/event/permanence-avrille-481/
LOCATION:Salle Marie Paradis\, Avenue de la Ronde\, Avrillé\, 49240\, France
CATEGORIES:Permanences
END:VEVENT
BEGIN:VEVENT
DTSTART;TZID=Europe/Paris:20241118T193000
DTEND;TZID=Europe/Paris:20241118T223000
DTSTAMP:20260422T035710
CREATED:20241106T220035Z
LAST-MODIFIED:20241106T220035Z
UID:2669-1731958200-1731969000@escaladescb.fr
SUMMARY:Permanence (Avrillé)
DESCRIPTION:
URL:https://escaladescb.fr/event/permanence-avrille-489/
LOCATION:Salle Marie Paradis\, Avenue de la Ronde\, Avrillé\, 49240\, France
CATEGORIES:Permanences
END:VEVENT
BEGIN:VEVENT
DTSTART;TZID=Europe/Paris:20241119T203000
DTEND;TZID=Europe/Paris:20241119T223000
DTSTAMP:20260422T035710
CREATED:20241106T220431Z
LAST-MODIFIED:20241106T220431Z
UID:2675-1732048200-1732055400@escaladescb.fr
SUMMARY:Permanence (Beaucouzé)
DESCRIPTION:
URL:https://escaladescb.fr/event/permanence-beaucouze-114/
LOCATION:Complexe Jacques Aubineau\, salle Pierre de Coubertin\, 5 Bis Avenue de la Grange aux Belles\, Beaucouzé\, 49070\, France
CATEGORIES:Permanences
END:VEVENT
BEGIN:VEVENT
DTSTART;TZID=Europe/Paris:20241120T193000
DTEND;TZID=Europe/Paris:20241120T223000
DTSTAMP:20260422T035710
CREATED:20241106T215751Z
LAST-MODIFIED:20241106T215751Z
UID:2664-1732131000-1732141800@escaladescb.fr
SUMMARY:Permanence (Avrillé)
DESCRIPTION:
URL:https://escaladescb.fr/event/permanence-avrille-487/
LOCATION:Salle Marie Paradis\, Avenue de la Ronde\, Avrillé\, 49240\, France
CATEGORIES:Permanences
END:VEVENT
BEGIN:VEVENT
DTSTART;TZID=Europe/Paris:20241124T090000
DTEND;TZID=Europe/Paris:20241124T120000
DTSTAMP:20260422T035710
CREATED:20241106T215320Z
LAST-MODIFIED:20241106T215320Z
UID:2650-1732438800-1732449600@escaladescb.fr
SUMMARY:Permanence (Avrillé)
DESCRIPTION:
URL:https://escaladescb.fr/event/permanence-avrille-480/
LOCATION:Salle Marie Paradis\, Avenue de la Ronde\, Avrillé\, 49240\, France
CATEGORIES:Permanences
END:VEVENT
BEGIN:VEVENT
DTSTART;TZID=Europe/Paris:20241124T090000
DTEND;TZID=Europe/Paris:20241124T123000
DTSTAMP:20260422T035710
CREATED:20241120T212446Z
LAST-MODIFIED:20241120T212645Z
UID:2727-1732438800-1732451400@escaladescb.fr
SUMMARY:Sortie Climb Up
DESCRIPTION:En raison du Gala de gymnastique\, la salle ne sera pas accessible du jeudi 21 ou samedi 23 novembre prochain. Les cours sont donc annulés sur ces 3 jours. \nEn remplacement\, nous vous proposons une sortie au Climb Up Les Ponts de Cé le dimanche 24 novembre. Le rendez vous se fera dès 9H00 au Climb Up\, ou 8H30 au parking de Beaucouzé pour les personnes ayant besoin d’être transportées. Par soucis d’organisation\, merci de nous prévenir dans ce cas là. La fin de l’événement se fera vers 12H30. Si certains doivent partir plus tôt\, vous restez libre de quitter la salle en prévenant Quentin. \nLa participation se fait sur inscription en prévenant votre encadrant de cours ou en laissant un mail à quentin.boinot@orange.fr . L’entrée à Climb Up étant payant\, nous vous demanderons aussi de régler 9€ avec votre inscription pour l’entrée à Climb Up.
URL:https://escaladescb.fr/event/sortie-climb-up/
CATEGORIES:Vie du club
END:VEVENT
BEGIN:VEVENT
DTSTART;TZID=Europe/Paris:20241125T193000
DTEND;TZID=Europe/Paris:20241125T223000
DTSTAMP:20260422T035710
CREATED:20241106T215958Z
LAST-MODIFIED:20241106T215958Z
UID:2667-1732563000-1732573800@escaladescb.fr
SUMMARY:Permanence (Avrillé)
DESCRIPTION:
URL:https://escaladescb.fr/event/permanence-avrille-488/
LOCATION:Salle Marie Paradis\, Avenue de la Ronde\, Avrillé\, 49240\, France
CATEGORIES:Permanences
END:VEVENT
BEGIN:VEVENT
DTSTART;TZID=Europe/Paris:20241126T203000
DTEND;TZID=Europe/Paris:20241126T223000
DTSTAMP:20260422T035710
CREATED:20241106T215238Z
LAST-MODIFIED:20241106T215238Z
UID:2648-1732653000-1732660200@escaladescb.fr
SUMMARY:Permanence (Beaucouzé)
DESCRIPTION:
URL:https://escaladescb.fr/event/permanence-beaucouze-113/
LOCATION:Complexe Jacques Aubineau\, salle Pierre de Coubertin\, 5 Bis Avenue de la Grange aux Belles\, Beaucouzé\, 49070\, France
CATEGORIES:Permanences
END:VEVENT
BEGIN:VEVENT
DTSTART;TZID=Europe/Paris:20241127T193000
DTEND;TZID=Europe/Paris:20241127T223000
DTSTAMP:20260422T035710
CREATED:20241106T220255Z
LAST-MODIFIED:20241106T220255Z
UID:2673-1732735800-1732746600@escaladescb.fr
SUMMARY:Permanence (Avrillé)
DESCRIPTION:
URL:https://escaladescb.fr/event/permanence-avrille-491/
LOCATION:Salle Marie Paradis\, Avenue de la Ronde\, Avrillé\, 49240\, France
CATEGORIES:Permanences
END:VEVENT
BEGIN:VEVENT
DTSTART;TZID=Europe/Paris:20241128T203000
DTEND;TZID=Europe/Paris:20241128T223000
DTSTAMP:20260422T035710
CREATED:20241106T215622Z
LAST-MODIFIED:20241106T215622Z
UID:2660-1732825800-1732833000@escaladescb.fr
SUMMARY:Permanence (Avrillé)
DESCRIPTION:
URL:https://escaladescb.fr/event/permanence-avrille-485/
LOCATION:Salle Marie Paradis\, Avenue de la Ronde\, Avrillé\, 49240\, France
CATEGORIES:Permanences
END:VEVENT
BEGIN:VEVENT
DTSTART;TZID=Europe/Paris:20241130T173000
DTEND;TZID=Europe/Paris:20241130T220000
DTSTAMP:20260422T035710
CREATED:20241128T122745Z
LAST-MODIFIED:20241128T122745Z
UID:2819-1732987800-1733004000@escaladescb.fr
SUMMARY:Téléthon Avrillé
DESCRIPTION:
URL:https://escaladescb.fr/event/telethon-avrille/
END:VEVENT
END:VCALENDAR