BEGIN:VCALENDAR
VERSION:2.0
PRODID:-//SCB Escalade - ECPv6.15.20//NONSGML v1.0//EN
CALSCALE:GREGORIAN
METHOD:PUBLISH
X-ORIGINAL-URL:https://escaladescb.fr
X-WR-CALDESC:Évènements pour SCB Escalade
REFRESH-INTERVAL;VALUE=DURATION:PT1H
X-Robots-Tag:noindex
X-PUBLISHED-TTL:PT1H
BEGIN:VTIMEZONE
TZID:Europe/Paris
BEGIN:DAYLIGHT
TZOFFSETFROM:+0100
TZOFFSETTO:+0200
TZNAME:CEST
DTSTART:20230326T010000
END:DAYLIGHT
BEGIN:STANDARD
TZOFFSETFROM:+0200
TZOFFSETTO:+0100
TZNAME:CET
DTSTART:20231029T010000
END:STANDARD
BEGIN:DAYLIGHT
TZOFFSETFROM:+0100
TZOFFSETTO:+0200
TZNAME:CEST
DTSTART:20240331T010000
END:DAYLIGHT
BEGIN:STANDARD
TZOFFSETFROM:+0200
TZOFFSETTO:+0100
TZNAME:CET
DTSTART:20241027T010000
END:STANDARD
BEGIN:DAYLIGHT
TZOFFSETFROM:+0100
TZOFFSETTO:+0200
TZNAME:CEST
DTSTART:20250330T010000
END:DAYLIGHT
BEGIN:STANDARD
TZOFFSETFROM:+0200
TZOFFSETTO:+0100
TZNAME:CET
DTSTART:20251026T010000
END:STANDARD
END:VTIMEZONE
BEGIN:VEVENT
DTSTART;TZID=Europe/Paris:20241014T193000
DTEND;TZID=Europe/Paris:20241014T223000
DTSTAMP:20260422T023442
CREATED:20241013T144435Z
LAST-MODIFIED:20241013T144435Z
UID:2604-1728934200-1728945000@escaladescb.fr
SUMMARY:Permanence (Avrillé)
DESCRIPTION:
URL:https://escaladescb.fr/event/permanence-avrille-469/
LOCATION:Salle Marie Paradis\, Avenue de la Ronde\, Avrillé\, 49240\, France
CATEGORIES:Permanences
END:VEVENT
BEGIN:VEVENT
DTSTART;TZID=Europe/Paris:20241015T203000
DTEND;TZID=Europe/Paris:20241015T223000
DTSTAMP:20260422T023442
CREATED:20241013T144934Z
LAST-MODIFIED:20241013T144934Z
UID:2624-1729024200-1729031400@escaladescb.fr
SUMMARY:Permanence (Beaucouzé)
DESCRIPTION:
URL:https://escaladescb.fr/event/permanence-beaucouze-111/
LOCATION:Complexe Jacques Aubineau\, salle Pierre de Coubertin\, 5 Bis Avenue de la Grange aux Belles\, Beaucouzé\, 49070\, France
CATEGORIES:Permanences
END:VEVENT
BEGIN:VEVENT
DTSTART;TZID=Europe/Paris:20241016T193000
DTEND;TZID=Europe/Paris:20241016T223000
DTSTAMP:20260422T023442
CREATED:20241013T144509Z
LAST-MODIFIED:20241013T144509Z
UID:2606-1729107000-1729117800@escaladescb.fr
SUMMARY:Permanence (Avrillé)
DESCRIPTION:
URL:https://escaladescb.fr/event/permanence-avrille-470/
LOCATION:Salle Marie Paradis\, Avenue de la Ronde\, Avrillé\, 49240\, France
CATEGORIES:Permanences
END:VEVENT
BEGIN:VEVENT
DTSTART;TZID=Europe/Paris:20241017T203000
DTEND;TZID=Europe/Paris:20241017T223000
DTSTAMP:20260422T023442
CREATED:20241013T144543Z
LAST-MODIFIED:20241013T144543Z
UID:2608-1729197000-1729204200@escaladescb.fr
SUMMARY:Permanence (Avrillé)
DESCRIPTION:
URL:https://escaladescb.fr/event/permanence-avrille-471/
LOCATION:Salle Marie Paradis\, Avenue de la Ronde\, Avrillé\, 49240\, France
CATEGORIES:Permanences
END:VEVENT
BEGIN:VEVENT
DTSTART;TZID=Europe/Paris:20241019T143000
DTEND;TZID=Europe/Paris:20241019T173000
DTSTAMP:20260422T023442
CREATED:20241013T144616Z
LAST-MODIFIED:20241013T144616Z
UID:2610-1729348200-1729359000@escaladescb.fr
SUMMARY:Permanence (Avrillé)
DESCRIPTION:
URL:https://escaladescb.fr/event/permanence-avrille-472/
LOCATION:Salle Marie Paradis\, Avenue de la Ronde\, Avrillé\, 49240\, France
CATEGORIES:Permanences
END:VEVENT
BEGIN:VEVENT
DTSTART;VALUE=DATE:20241020
DTEND;VALUE=DATE:20241021
DTSTAMP:20260422T023442
CREATED:20241013T145325Z
LAST-MODIFIED:20241013T145417Z
UID:2632-1729382400-1729468799@escaladescb.fr
SUMMARY:Ouvertures Voies (Beaucouzé)
DESCRIPTION:
URL:https://escaladescb.fr/event/ouvertures-voies-4/
LOCATION:Complexe Jacques Aubineau\, salle Pierre de Coubertin\, 5 Bis Avenue de la Grange aux Belles\, Beaucouzé\, 49070\, France
CATEGORIES:Vie du club
END:VEVENT
BEGIN:VEVENT
DTSTART;VALUE=DATE:20241021
DTEND;VALUE=DATE:20241022
DTSTAMP:20260422T023442
CREATED:20241013T145034Z
LAST-MODIFIED:20241013T145433Z
UID:2628-1729468800-1729555199@escaladescb.fr
SUMMARY:Ouvertures Voies (Beaucouzé)
DESCRIPTION:
URL:https://escaladescb.fr/event/ouvertures-voies-2/
LOCATION:Complexe Jacques Aubineau\, salle Pierre de Coubertin\, 5 Bis Avenue de la Grange aux Belles\, Beaucouzé\, 49070\, France
CATEGORIES:Vie du club
END:VEVENT
BEGIN:VEVENT
DTSTART;TZID=Europe/Paris:20241021T193000
DTEND;TZID=Europe/Paris:20241021T223000
DTSTAMP:20260422T023442
CREATED:20241013T144649Z
LAST-MODIFIED:20241013T144649Z
UID:2612-1729539000-1729549800@escaladescb.fr
SUMMARY:Permanence (Avrillé)
DESCRIPTION:
URL:https://escaladescb.fr/event/permanence-avrille-473/
LOCATION:Salle Marie Paradis\, Avenue de la Ronde\, Avrillé\, 49240\, France
CATEGORIES:Permanences
END:VEVENT
BEGIN:VEVENT
DTSTART;VALUE=DATE:20241022
DTEND;VALUE=DATE:20241023
DTSTAMP:20260422T023442
CREATED:20241013T145013Z
LAST-MODIFIED:20241013T145436Z
UID:2626-1729555200-1729641599@escaladescb.fr
SUMMARY:Ouvertures Voies (Beaucouzé)
DESCRIPTION:
URL:https://escaladescb.fr/event/ouvertures-voies/
LOCATION:Complexe Jacques Aubineau\, salle Pierre de Coubertin\, 5 Bis Avenue de la Grange aux Belles\, Beaucouzé\, 49070\, France
CATEGORIES:Vie du club
END:VEVENT
BEGIN:VEVENT
DTSTART;VALUE=DATE:20241023
DTEND;VALUE=DATE:20241024
DTSTAMP:20260422T023442
CREATED:20241013T145236Z
LAST-MODIFIED:20241013T145441Z
UID:2630-1729641600-1729727999@escaladescb.fr
SUMMARY:Ouvertures Voies (Beaucouzé)
DESCRIPTION:
URL:https://escaladescb.fr/event/ouvertures-voies-3/
LOCATION:Complexe Jacques Aubineau\, salle Pierre de Coubertin\, 5 Bis Avenue de la Grange aux Belles\, Beaucouzé\, 49070\, France
END:VEVENT
BEGIN:VEVENT
DTSTART;TZID=Europe/Paris:20241024T193000
DTEND;TZID=Europe/Paris:20241024T223000
DTSTAMP:20260422T023442
CREATED:20241013T144715Z
LAST-MODIFIED:20241013T144715Z
UID:2614-1729798200-1729809000@escaladescb.fr
SUMMARY:Permanence (Avrillé)
DESCRIPTION:
URL:https://escaladescb.fr/event/permanence-avrille-474/
LOCATION:Salle Marie Paradis\, Avenue de la Ronde\, Avrillé\, 49240\, France
CATEGORIES:Permanences
END:VEVENT
BEGIN:VEVENT
DTSTART;TZID=Europe/Paris:20241025T193000
DTEND;TZID=Europe/Paris:20241025T223000
DTSTAMP:20260422T023442
CREATED:20241013T144743Z
LAST-MODIFIED:20241013T144743Z
UID:2616-1729884600-1729895400@escaladescb.fr
SUMMARY:Permanence (Avrillé)
DESCRIPTION:
URL:https://escaladescb.fr/event/permanence-avrille-475/
LOCATION:Salle Marie Paradis\, Avenue de la Ronde\, Avrillé\, 49240\, France
CATEGORIES:Permanences
END:VEVENT
BEGIN:VEVENT
DTSTART;TZID=Europe/Paris:20241028T193000
DTEND;TZID=Europe/Paris:20241028T223000
DTSTAMP:20260422T023442
CREATED:20241013T144809Z
LAST-MODIFIED:20241013T144809Z
UID:2618-1730143800-1730154600@escaladescb.fr
SUMMARY:Permanence (Avrillé)
DESCRIPTION:
URL:https://escaladescb.fr/event/permanence-avrille-476/
LOCATION:Salle Marie Paradis\, Avenue de la Ronde\, Avrillé\, 49240\, France
CATEGORIES:Permanences
END:VEVENT
BEGIN:VEVENT
DTSTART;TZID=Europe/Paris:20241029T193000
DTEND;TZID=Europe/Paris:20241029T223000
DTSTAMP:20260422T023442
CREATED:20241013T144836Z
LAST-MODIFIED:20241013T144836Z
UID:2620-1730230200-1730241000@escaladescb.fr
SUMMARY:Permanence (Avrillé)
DESCRIPTION:
URL:https://escaladescb.fr/event/permanence-avrille-477/
LOCATION:Salle Marie Paradis\, Avenue de la Ronde\, Avrillé\, 49240\, France
CATEGORIES:Permanences
END:VEVENT
BEGIN:VEVENT
DTSTART;TZID=Europe/Paris:20241030T193000
DTEND;TZID=Europe/Paris:20241030T223000
DTSTAMP:20260422T023442
CREATED:20241013T144903Z
LAST-MODIFIED:20241013T144903Z
UID:2622-1730316600-1730327400@escaladescb.fr
SUMMARY:Permanence (Avrillé)
DESCRIPTION:
URL:https://escaladescb.fr/event/permanence-avrille-478/
LOCATION:Salle Marie Paradis\, Avenue de la Ronde\, Avrillé\, 49240\, France
CATEGORIES:Permanences
END:VEVENT
END:VCALENDAR