BEGIN:VCALENDAR
VERSION:2.0
PRODID:-//SCB Escalade - ECPv6.15.20//NONSGML v1.0//EN
CALSCALE:GREGORIAN
METHOD:PUBLISH
X-WR-CALNAME:SCB Escalade
X-ORIGINAL-URL:https://escaladescb.fr
X-WR-CALDESC:Évènements pour SCB Escalade
REFRESH-INTERVAL;VALUE=DURATION:PT1H
X-Robots-Tag:noindex
X-PUBLISHED-TTL:PT1H
BEGIN:VTIMEZONE
TZID:Europe/Paris
BEGIN:DAYLIGHT
TZOFFSETFROM:+0100
TZOFFSETTO:+0200
TZNAME:CEST
DTSTART:20230326T010000
END:DAYLIGHT
BEGIN:STANDARD
TZOFFSETFROM:+0200
TZOFFSETTO:+0100
TZNAME:CET
DTSTART:20231029T010000
END:STANDARD
BEGIN:DAYLIGHT
TZOFFSETFROM:+0100
TZOFFSETTO:+0200
TZNAME:CEST
DTSTART:20240331T010000
END:DAYLIGHT
BEGIN:STANDARD
TZOFFSETFROM:+0200
TZOFFSETTO:+0100
TZNAME:CET
DTSTART:20241027T010000
END:STANDARD
BEGIN:DAYLIGHT
TZOFFSETFROM:+0100
TZOFFSETTO:+0200
TZNAME:CEST
DTSTART:20250330T010000
END:DAYLIGHT
BEGIN:STANDARD
TZOFFSETFROM:+0200
TZOFFSETTO:+0100
TZNAME:CET
DTSTART:20251026T010000
END:STANDARD
END:VTIMEZONE
BEGIN:VEVENT
DTSTART;TZID=Europe/Paris:20240902T193000
DTEND;TZID=Europe/Paris:20240902T223000
DTSTAMP:20260422T005837
CREATED:20240908T110636Z
LAST-MODIFIED:20240908T110636Z
UID:2553-1725305400-1725316200@escaladescb.fr
SUMMARY:Permanence (Avrillé)
DESCRIPTION:
URL:https://escaladescb.fr/event/permanence-avrille-456/
LOCATION:Salle Marie Paradis\, Avenue de la Ronde\, Avrillé\, 49240\, France
CATEGORIES:Permanences
END:VEVENT
BEGIN:VEVENT
DTSTART;TZID=Europe/Paris:20240905T203000
DTEND;TZID=Europe/Paris:20240905T223000
DTSTAMP:20260422T005837
CREATED:20240908T110709Z
LAST-MODIFIED:20240908T110709Z
UID:2555-1725568200-1725575400@escaladescb.fr
SUMMARY:Permanence (Avrillé)
DESCRIPTION:
URL:https://escaladescb.fr/event/permanence-avrille-457/
LOCATION:Salle Marie Paradis\, Avenue de la Ronde\, Avrillé\, 49240\, France
CATEGORIES:Permanences
END:VEVENT
BEGIN:VEVENT
DTSTART;TZID=Europe/Paris:20240910T203000
DTEND;TZID=Europe/Paris:20240910T223000
DTSTAMP:20260422T005837
CREATED:20240908T111350Z
LAST-MODIFIED:20240908T111350Z
UID:2580-1726000200-1726007400@escaladescb.fr
SUMMARY:Permanence (Beaucouzé)
DESCRIPTION:
URL:https://escaladescb.fr/event/permanence-beaucouze-108/
LOCATION:Complexe Jacques Aubineau\, salle Pierre de Coubertin\, 5 Bis Avenue de la Grange aux Belles\, Beaucouzé\, 49070\, France
CATEGORIES:Permanences
END:VEVENT
BEGIN:VEVENT
DTSTART;TZID=Europe/Paris:20240911T193000
DTEND;TZID=Europe/Paris:20240911T223000
DTSTAMP:20260422T005837
CREATED:20240908T110738Z
LAST-MODIFIED:20240908T110738Z
UID:2557-1726083000-1726093800@escaladescb.fr
SUMMARY:Permanence (Avrillé)
DESCRIPTION:
URL:https://escaladescb.fr/event/permanence-avrille-458/
LOCATION:Salle Marie Paradis\, Avenue de la Ronde\, Avrillé\, 49240\, France
CATEGORIES:Permanences
END:VEVENT
BEGIN:VEVENT
DTSTART;TZID=Europe/Paris:20240912T203000
DTEND;TZID=Europe/Paris:20240912T223000
DTSTAMP:20260422T005837
CREATED:20240908T110805Z
LAST-MODIFIED:20240908T110805Z
UID:2559-1726173000-1726180200@escaladescb.fr
SUMMARY:Permanence (Avrillé)
DESCRIPTION:
URL:https://escaladescb.fr/event/permanence-avrille-459/
LOCATION:Salle Marie Paradis\, Avenue de la Ronde\, Avrillé\, 49240\, France
CATEGORIES:Permanences
END:VEVENT
BEGIN:VEVENT
DTSTART;TZID=Europe/Paris:20240914T143000
DTEND;TZID=Europe/Paris:20240914T173000
DTSTAMP:20260422T005837
CREATED:20240908T110834Z
LAST-MODIFIED:20240908T110834Z
UID:2561-1726324200-1726335000@escaladescb.fr
SUMMARY:Permanence (Avrillé)
DESCRIPTION:
URL:https://escaladescb.fr/event/permanence-avrille-460/
LOCATION:Salle Marie Paradis\, Avenue de la Ronde\, Avrillé\, 49240\, France
CATEGORIES:Permanences
END:VEVENT
BEGIN:VEVENT
DTSTART;TZID=Europe/Paris:20240916T193000
DTEND;TZID=Europe/Paris:20240916T223000
DTSTAMP:20260422T005837
CREATED:20240908T110859Z
LAST-MODIFIED:20240908T110859Z
UID:2563-1726515000-1726525800@escaladescb.fr
SUMMARY:Permanence (Avrillé)
DESCRIPTION:
URL:https://escaladescb.fr/event/permanence-avrille-461/
LOCATION:Salle Marie Paradis\, Avenue de la Ronde\, Avrillé\, 49240\, France
CATEGORIES:Permanences
END:VEVENT
BEGIN:VEVENT
DTSTART;TZID=Europe/Paris:20240917T203000
DTEND;TZID=Europe/Paris:20240917T223000
DTSTAMP:20260422T005837
CREATED:20240908T111413Z
LAST-MODIFIED:20240908T111413Z
UID:2582-1726605000-1726612200@escaladescb.fr
SUMMARY:Permanence (Beaucouzé)
DESCRIPTION:
URL:https://escaladescb.fr/event/permanence-beaucouze-109/
LOCATION:Complexe Jacques Aubineau\, salle Pierre de Coubertin\, 5 Bis Avenue de la Grange aux Belles\, Beaucouzé\, 49070\, France
CATEGORIES:Permanences
END:VEVENT
BEGIN:VEVENT
DTSTART;TZID=Europe/Paris:20240918T193000
DTEND;TZID=Europe/Paris:20240918T223000
DTSTAMP:20260422T005837
CREATED:20240908T110927Z
LAST-MODIFIED:20240908T110927Z
UID:2565-1726687800-1726698600@escaladescb.fr
SUMMARY:Permanence (Avrillé)
DESCRIPTION:
URL:https://escaladescb.fr/event/permanence-avrille-462/
LOCATION:Salle Marie Paradis\, Avenue de la Ronde\, Avrillé\, 49240\, France
CATEGORIES:Permanences
END:VEVENT
BEGIN:VEVENT
DTSTART;TZID=Europe/Paris:20240919T203000
DTEND;TZID=Europe/Paris:20240919T223000
DTSTAMP:20260422T005837
CREATED:20240908T110959Z
LAST-MODIFIED:20240908T110959Z
UID:2567-1726777800-1726785000@escaladescb.fr
SUMMARY:Permanence (Avrillé)
DESCRIPTION:
URL:https://escaladescb.fr/event/permanence-avrille-463/
LOCATION:Salle Marie Paradis\, Avenue de la Ronde\, Avrillé\, 49240\, France
CATEGORIES:Permanences
END:VEVENT
BEGIN:VEVENT
DTSTART;TZID=Europe/Paris:20240922T090000
DTEND;TZID=Europe/Paris:20240922T120000
DTSTAMP:20260422T005837
CREATED:20240908T111037Z
LAST-MODIFIED:20240908T111037Z
UID:2570-1726995600-1727006400@escaladescb.fr
SUMMARY:Permanence (Avrillé)
DESCRIPTION:
URL:https://escaladescb.fr/event/permanence-avrille-464/
LOCATION:Salle Marie Paradis\, Avenue de la Ronde\, Avrillé\, 49240\, France
CATEGORIES:Permanences
END:VEVENT
BEGIN:VEVENT
DTSTART;TZID=Europe/Paris:20240924T203000
DTEND;TZID=Europe/Paris:20240924T223000
DTSTAMP:20260422T005837
CREATED:20240908T111440Z
LAST-MODIFIED:20240908T111440Z
UID:2584-1727209800-1727217000@escaladescb.fr
SUMMARY:Permanence (Beaucouzé)
DESCRIPTION:
URL:https://escaladescb.fr/event/permanence-beaucouze-110/
LOCATION:Complexe Jacques Aubineau\, salle Pierre de Coubertin\, 5 Bis Avenue de la Grange aux Belles\, Beaucouzé\, 49070\, France
CATEGORIES:Permanences
END:VEVENT
BEGIN:VEVENT
DTSTART;TZID=Europe/Paris:20240925T193000
DTEND;TZID=Europe/Paris:20240925T223000
DTSTAMP:20260422T005837
CREATED:20240908T111138Z
LAST-MODIFIED:20240908T111138Z
UID:2572-1727292600-1727303400@escaladescb.fr
SUMMARY:Permanence (Avrillé)
DESCRIPTION:
URL:https://escaladescb.fr/event/permanence-avrille-465/
LOCATION:Salle Marie Paradis\, Avenue de la Ronde\, Avrillé\, 49240\, France
CATEGORIES:Permanences
END:VEVENT
BEGIN:VEVENT
DTSTART;TZID=Europe/Paris:20240926T203000
DTEND;TZID=Europe/Paris:20240926T223000
DTSTAMP:20260422T005837
CREATED:20240908T111206Z
LAST-MODIFIED:20240908T111206Z
UID:2574-1727382600-1727389800@escaladescb.fr
SUMMARY:Permanence (Avrillé)
DESCRIPTION:
URL:https://escaladescb.fr/event/permanence-avrille-466/
LOCATION:Salle Marie Paradis\, Avenue de la Ronde\, Avrillé\, 49240\, France
CATEGORIES:Permanences
END:VEVENT
BEGIN:VEVENT
DTSTART;TZID=Europe/Paris:20240928T143000
DTEND;TZID=Europe/Paris:20240928T173000
DTSTAMP:20260422T005837
CREATED:20240908T111227Z
LAST-MODIFIED:20240908T111227Z
UID:2576-1727533800-1727544600@escaladescb.fr
SUMMARY:Permanence (Avrillé)
DESCRIPTION:
URL:https://escaladescb.fr/event/permanence-avrille-467/
LOCATION:Salle Marie Paradis\, Avenue de la Ronde\, Avrillé\, 49240\, France
CATEGORIES:Permanences
END:VEVENT
BEGIN:VEVENT
DTSTART;TZID=Europe/Paris:20240930T193000
DTEND;TZID=Europe/Paris:20240930T223000
DTSTAMP:20260422T005837
CREATED:20240908T111253Z
LAST-MODIFIED:20240908T111253Z
UID:2578-1727724600-1727735400@escaladescb.fr
SUMMARY:Permanence (Avrillé)
DESCRIPTION:
URL:https://escaladescb.fr/event/permanence-avrille-468/
LOCATION:Salle Marie Paradis\, Avenue de la Ronde\, Avrillé\, 49240\, France
CATEGORIES:Permanences
END:VEVENT
END:VCALENDAR