BEGIN:VCALENDAR
VERSION:2.0
PRODID:-//SCB Escalade - ECPv6.15.20//NONSGML v1.0//EN
CALSCALE:GREGORIAN
METHOD:PUBLISH
X-WR-CALNAME:SCB Escalade
X-ORIGINAL-URL:https://escaladescb.fr
X-WR-CALDESC:Évènements pour SCB Escalade
REFRESH-INTERVAL;VALUE=DURATION:PT1H
X-Robots-Tag:noindex
X-PUBLISHED-TTL:PT1H
BEGIN:VTIMEZONE
TZID:Europe/Paris
BEGIN:DAYLIGHT
TZOFFSETFROM:+0100
TZOFFSETTO:+0200
TZNAME:CEST
DTSTART:20220327T010000
END:DAYLIGHT
BEGIN:STANDARD
TZOFFSETFROM:+0200
TZOFFSETTO:+0100
TZNAME:CET
DTSTART:20221030T010000
END:STANDARD
BEGIN:DAYLIGHT
TZOFFSETFROM:+0100
TZOFFSETTO:+0200
TZNAME:CEST
DTSTART:20230326T010000
END:DAYLIGHT
BEGIN:STANDARD
TZOFFSETFROM:+0200
TZOFFSETTO:+0100
TZNAME:CET
DTSTART:20231029T010000
END:STANDARD
BEGIN:DAYLIGHT
TZOFFSETFROM:+0100
TZOFFSETTO:+0200
TZNAME:CEST
DTSTART:20240331T010000
END:DAYLIGHT
BEGIN:STANDARD
TZOFFSETFROM:+0200
TZOFFSETTO:+0100
TZNAME:CET
DTSTART:20241027T010000
END:STANDARD
END:VTIMEZONE
BEGIN:VEVENT
DTSTART;TZID=Europe/Paris:20231002T193000
DTEND;TZID=Europe/Paris:20231002T223000
DTSTAMP:20260419T163025
CREATED:20230924T083120Z
LAST-MODIFIED:20230924T083120Z
UID:2147-1696275000-1696285800@escaladescb.fr
SUMMARY:Permanence (Avrillé)
DESCRIPTION:
URL:https://escaladescb.fr/event/permanence-avrille-363/
LOCATION:Salle Marie Paradis\, Avenue de la Ronde\, Avrillé\, 49240\, France
CATEGORIES:Permanences
END:VEVENT
BEGIN:VEVENT
DTSTART;TZID=Europe/Paris:20231003T203000
DTEND;TZID=Europe/Paris:20231003T223000
DTSTAMP:20260419T163025
CREATED:20230924T083239Z
LAST-MODIFIED:20230924T083246Z
UID:2149-1696365000-1696372200@escaladescb.fr
SUMMARY:Permanence (Beaucouzé)
DESCRIPTION:
URL:https://escaladescb.fr/event/permanence-beaucouze-89/
LOCATION:Complexe Jacques Aubineau\, salle Pierre de Coubertin\, 5 Bis Avenue de la Grange aux Belles\, Beaucouzé\, 49070\, France
CATEGORIES:Permanences
END:VEVENT
BEGIN:VEVENT
DTSTART;TZID=Europe/Paris:20231004T193000
DTEND;TZID=Europe/Paris:20231004T223000
DTSTAMP:20260419T163025
CREATED:20230924T082851Z
LAST-MODIFIED:20230924T082851Z
UID:2142-1696447800-1696458600@escaladescb.fr
SUMMARY:Permanence (Avrillé)
DESCRIPTION:
URL:https://escaladescb.fr/event/permanence-avrille-362/
LOCATION:Salle Marie Paradis\, Avenue de la Ronde\, Avrillé\, 49240\, France
CATEGORIES:Permanences
END:VEVENT
BEGIN:VEVENT
DTSTART;TZID=Europe/Paris:20231005T203000
DTEND;TZID=Europe/Paris:20231005T223000
DTSTAMP:20260419T163025
CREATED:20230924T083316Z
LAST-MODIFIED:20230924T083316Z
UID:2151-1696537800-1696545000@escaladescb.fr
SUMMARY:Permanence (Avrillé)
DESCRIPTION:
URL:https://escaladescb.fr/event/permanence-avrille-364/
LOCATION:Salle Marie Paradis\, Avenue de la Ronde\, Avrillé\, 49240\, France
CATEGORIES:Permanences
END:VEVENT
BEGIN:VEVENT
DTSTART;TZID=Europe/Paris:20231009T193000
DTEND;TZID=Europe/Paris:20231009T223000
DTSTAMP:20260419T163025
CREATED:20230924T083428Z
LAST-MODIFIED:20230924T083428Z
UID:2153-1696879800-1696890600@escaladescb.fr
SUMMARY:Permanence (Avrillé)
DESCRIPTION:
URL:https://escaladescb.fr/event/permanence-avrille-365/
LOCATION:Salle Marie Paradis\, Avenue de la Ronde\, Avrillé\, 49240\, France
CATEGORIES:Permanences
END:VEVENT
BEGIN:VEVENT
DTSTART;TZID=Europe/Paris:20231010T203000
DTEND;TZID=Europe/Paris:20231010T223000
DTSTAMP:20260419T163025
CREATED:20230924T083743Z
LAST-MODIFIED:20230924T083743Z
UID:2155-1696969800-1696977000@escaladescb.fr
SUMMARY:Permanence (Beaucouzé)
DESCRIPTION:
URL:https://escaladescb.fr/event/permanence-beaucouze-90/
LOCATION:Salle Marie Paradis\, Avenue de la Ronde\, Avrillé\, 49240\, France
CATEGORIES:Permanences
END:VEVENT
BEGIN:VEVENT
DTSTART;TZID=Europe/Paris:20231011T203000
DTEND;TZID=Europe/Paris:20231011T223000
DTSTAMP:20260419T163025
CREATED:20230924T083908Z
LAST-MODIFIED:20230924T083908Z
UID:2157-1697056200-1697063400@escaladescb.fr
SUMMARY:Permanence (Avrillé)
DESCRIPTION:
URL:https://escaladescb.fr/event/permanence-avrille-366/
LOCATION:Salle Marie Paradis\, Avenue de la Ronde\, Avrillé\, 49240\, France
CATEGORIES:Permanences
END:VEVENT
BEGIN:VEVENT
DTSTART;TZID=Europe/Paris:20231012T203000
DTEND;TZID=Europe/Paris:20231012T223000
DTSTAMP:20260419T163025
CREATED:20230924T083937Z
LAST-MODIFIED:20230930T194936Z
UID:2159-1697142600-1697149800@escaladescb.fr
SUMMARY:Permanence (Avrillé)
DESCRIPTION:
URL:https://escaladescb.fr/event/permanence-avrille-367/
LOCATION:Salle Marie Paradis\, Avenue de la Ronde\, Avrillé\, 49240\, France
CATEGORIES:Permanences
END:VEVENT
BEGIN:VEVENT
DTSTART;TZID=Europe/Paris:20231014T143000
DTEND;TZID=Europe/Paris:20231014T173000
DTSTAMP:20260419T163025
CREATED:20230924T084047Z
LAST-MODIFIED:20230924T084047Z
UID:2161-1697293800-1697304600@escaladescb.fr
SUMMARY:Permanence (Avrillé)
DESCRIPTION:
URL:https://escaladescb.fr/event/permanence-avrille-368/
LOCATION:Salle Marie Paradis\, Avenue de la Ronde\, Avrillé\, 49240\, France
CATEGORIES:Permanences
END:VEVENT
BEGIN:VEVENT
DTSTART;TZID=Europe/Paris:20231015T090000
DTEND;TZID=Europe/Paris:20231015T120000
DTSTAMP:20260419T163025
CREATED:20230924T084112Z
LAST-MODIFIED:20230924T084112Z
UID:2163-1697360400-1697371200@escaladescb.fr
SUMMARY:Permanence (Avrillé)
DESCRIPTION:
URL:https://escaladescb.fr/event/permanence-avrille-369/
LOCATION:Salle Marie Paradis\, Avenue de la Ronde\, Avrillé\, 49240\, France
CATEGORIES:Permanences
END:VEVENT
BEGIN:VEVENT
DTSTART;TZID=Europe/Paris:20231016T193000
DTEND;TZID=Europe/Paris:20231016T223000
DTSTAMP:20260419T163025
CREATED:20230924T084143Z
LAST-MODIFIED:20230924T084143Z
UID:2165-1697484600-1697495400@escaladescb.fr
SUMMARY:Permanence (Avrillé)
DESCRIPTION:
URL:https://escaladescb.fr/event/permanence-avrille-370/
LOCATION:Salle Marie Paradis\, Avenue de la Ronde\, Avrillé\, 49240\, France
CATEGORIES:Permanences
END:VEVENT
BEGIN:VEVENT
DTSTART;TZID=Europe/Paris:20231017T203000
DTEND;TZID=Europe/Paris:20231017T223000
DTSTAMP:20260419T163025
CREATED:20230924T084244Z
LAST-MODIFIED:20230924T084244Z
UID:2167-1697574600-1697581800@escaladescb.fr
SUMMARY:Permanence (Beaucouzé)
DESCRIPTION:
URL:https://escaladescb.fr/event/permanence-beaucouze-91/
LOCATION:Complexe Jacques Aubineau\, salle Pierre de Coubertin\, 5 Bis Avenue de la Grange aux Belles\, Beaucouzé\, 49070\, France
CATEGORIES:Permanences
END:VEVENT
BEGIN:VEVENT
DTSTART;TZID=Europe/Paris:20231018T193000
DTEND;TZID=Europe/Paris:20231018T223000
DTSTAMP:20260419T163025
CREATED:20230924T084340Z
LAST-MODIFIED:20230924T084340Z
UID:2169-1697657400-1697668200@escaladescb.fr
SUMMARY:Permanence (Avrillé)
DESCRIPTION:
URL:https://escaladescb.fr/event/permanence-avrille-371/
LOCATION:Salle Marie Paradis\, Avenue de la Ronde\, Avrillé\, 49240\, France
CATEGORIES:Permanences
END:VEVENT
BEGIN:VEVENT
DTSTART;TZID=Europe/Paris:20231019T203000
DTEND;TZID=Europe/Paris:20231019T223000
DTSTAMP:20260419T163025
CREATED:20230924T084400Z
LAST-MODIFIED:20230924T084400Z
UID:2171-1697747400-1697754600@escaladescb.fr
SUMMARY:Permanence (Avrillé)
DESCRIPTION:
URL:https://escaladescb.fr/event/permanence-avrille-372/
LOCATION:Salle Marie Paradis\, Avenue de la Ronde\, Avrillé\, 49240\, France
CATEGORIES:Permanences
END:VEVENT
BEGIN:VEVENT
DTSTART;TZID=Europe/Paris:20231021T143000
DTEND;TZID=Europe/Paris:20231021T173000
DTSTAMP:20260419T163025
CREATED:20230924T084432Z
LAST-MODIFIED:20230924T084432Z
UID:2173-1697898600-1697909400@escaladescb.fr
SUMMARY:Permanence (Avrillé)
DESCRIPTION:
URL:https://escaladescb.fr/event/permanence-avrille-373/
LOCATION:Salle Marie Paradis\, Avenue de la Ronde\, Avrillé\, 49240\, France
CATEGORIES:Permanences
END:VEVENT
END:VCALENDAR