BEGIN:VCALENDAR
VERSION:2.0
PRODID:-//SCB Escalade - ECPv6.15.20//NONSGML v1.0//EN
CALSCALE:GREGORIAN
METHOD:PUBLISH
X-ORIGINAL-URL:https://escaladescb.fr
X-WR-CALDESC:Évènements pour SCB Escalade
REFRESH-INTERVAL;VALUE=DURATION:PT1H
X-Robots-Tag:noindex
X-PUBLISHED-TTL:PT1H
BEGIN:VTIMEZONE
TZID:Europe/Paris
BEGIN:DAYLIGHT
TZOFFSETFROM:+0100
TZOFFSETTO:+0200
TZNAME:CEST
DTSTART:20220327T010000
END:DAYLIGHT
BEGIN:STANDARD
TZOFFSETFROM:+0200
TZOFFSETTO:+0100
TZNAME:CET
DTSTART:20221030T010000
END:STANDARD
BEGIN:DAYLIGHT
TZOFFSETFROM:+0100
TZOFFSETTO:+0200
TZNAME:CEST
DTSTART:20230326T010000
END:DAYLIGHT
BEGIN:STANDARD
TZOFFSETFROM:+0200
TZOFFSETTO:+0100
TZNAME:CET
DTSTART:20231029T010000
END:STANDARD
BEGIN:DAYLIGHT
TZOFFSETFROM:+0100
TZOFFSETTO:+0200
TZNAME:CEST
DTSTART:20240331T010000
END:DAYLIGHT
BEGIN:STANDARD
TZOFFSETFROM:+0200
TZOFFSETTO:+0100
TZNAME:CET
DTSTART:20241027T010000
END:STANDARD
END:VTIMEZONE
BEGIN:VEVENT
DTSTART;TZID=Europe/Paris:20230704T203000
DTEND;TZID=Europe/Paris:20230704T223000
DTSTAMP:20260419T204210
CREATED:20230704T183818Z
LAST-MODIFIED:20230704T183818Z
UID:2022-1688502600-1688509800@escaladescb.fr
SUMMARY:Permanence (Avrillé)
DESCRIPTION:
URL:https://escaladescb.fr/event/permanence-avrille-331/
LOCATION:Salle Marie Paradis\, Avenue de la Ronde\, Avrillé\, 49240\, France
CATEGORIES:Permanences
END:VEVENT
BEGIN:VEVENT
DTSTART;TZID=Europe/Paris:20230705T200000
DTEND;TZID=Europe/Paris:20230705T223000
DTSTAMP:20260419T204210
CREATED:20230704T184000Z
LAST-MODIFIED:20230704T184000Z
UID:2024-1688587200-1688596200@escaladescb.fr
SUMMARY:Permanence (Avrillé)
DESCRIPTION:
URL:https://escaladescb.fr/event/permanence-avrille-332/
LOCATION:Salle Marie Paradis\, Avenue de la Ronde\, Avrillé\, 49240\, France
CATEGORIES:Permanences
END:VEVENT
BEGIN:VEVENT
DTSTART;TZID=Europe/Paris:20230706T210000
DTEND;TZID=Europe/Paris:20230706T223000
DTSTAMP:20260419T204210
CREATED:20230704T184045Z
LAST-MODIFIED:20230704T184045Z
UID:2026-1688677200-1688682600@escaladescb.fr
SUMMARY:Permanence (Avrillé)
DESCRIPTION:
URL:https://escaladescb.fr/event/permanence-avrille-333/
LOCATION:Salle Marie Paradis\, Avenue de la Ronde\, Avrillé\, 49240\, France
CATEGORIES:Permanences
END:VEVENT
BEGIN:VEVENT
DTSTART;TZID=Europe/Paris:20230707T180000
DTEND;TZID=Europe/Paris:20230707T200000
DTSTAMP:20260419T204210
CREATED:20230704T184312Z
LAST-MODIFIED:20230704T184312Z
UID:2028-1688752800-1688760000@escaladescb.fr
SUMMARY:Permanence (Avrillé)
DESCRIPTION:
URL:https://escaladescb.fr/event/permanence-avrille-334/
LOCATION:Salle Marie Paradis\, Avenue de la Ronde\, Avrillé\, 49240\, France
CATEGORIES:Permanences
END:VEVENT
BEGIN:VEVENT
DTSTART;TZID=Europe/Paris:20230709T090000
DTEND;TZID=Europe/Paris:20230709T120000
DTSTAMP:20260419T204210
CREATED:20230708T064347Z
LAST-MODIFIED:20230708T064347Z
UID:2036-1688893200-1688904000@escaladescb.fr
SUMMARY:Permanence (Avrillé)
DESCRIPTION:
URL:https://escaladescb.fr/event/permanence-avrille-335/
LOCATION:Salle Marie Paradis\, Avenue de la Ronde\, Avrillé\, 49240\, France
CATEGORIES:Permanences
END:VEVENT
BEGIN:VEVENT
DTSTART;TZID=Europe/Paris:20230710T193000
DTEND;TZID=Europe/Paris:20230710T223000
DTSTAMP:20260419T204210
CREATED:20230708T064444Z
LAST-MODIFIED:20230708T064444Z
UID:2038-1689017400-1689028200@escaladescb.fr
SUMMARY:Permanence (Avrillé)
DESCRIPTION:
URL:https://escaladescb.fr/event/permanence-avrille-336/
LOCATION:Salle Marie Paradis\, Avenue de la Ronde\, Avrillé\, 49240\, France
CATEGORIES:Permanences
END:VEVENT
BEGIN:VEVENT
DTSTART;TZID=Europe/Paris:20230711T193000
DTEND;TZID=Europe/Paris:20230711T223000
DTSTAMP:20260419T204210
CREATED:20230708T064518Z
LAST-MODIFIED:20230708T064518Z
UID:2040-1689103800-1689114600@escaladescb.fr
SUMMARY:Permanence (Avrillé)
DESCRIPTION:
URL:https://escaladescb.fr/event/permanence-avrille-337/
LOCATION:Salle Marie Paradis\, Avenue de la Ronde\, Avrillé\, 49240\, France
CATEGORIES:Permanences
END:VEVENT
BEGIN:VEVENT
DTSTART;TZID=Europe/Paris:20230718T193000
DTEND;TZID=Europe/Paris:20230718T223000
DTSTAMP:20260419T204210
CREATED:20230708T064737Z
LAST-MODIFIED:20230708T064737Z
UID:2042-1689708600-1689719400@escaladescb.fr
SUMMARY:Permanence (Avrillé)
DESCRIPTION:
URL:https://escaladescb.fr/event/permanence-avrille-338/
LOCATION:Salle Marie Paradis\, Avenue de la Ronde\, Avrillé\, 49240\, France
CATEGORIES:Permanences
END:VEVENT
BEGIN:VEVENT
DTSTART;TZID=Europe/Paris:20230719T193000
DTEND;TZID=Europe/Paris:20230719T223000
DTSTAMP:20260419T204210
CREATED:20230708T064758Z
LAST-MODIFIED:20230708T064758Z
UID:2044-1689795000-1689805800@escaladescb.fr
SUMMARY:Permanence (Avrillé)
DESCRIPTION:
URL:https://escaladescb.fr/event/permanence-avrille-339/
LOCATION:Salle Marie Paradis\, Avenue de la Ronde\, Avrillé\, 49240\, France
CATEGORIES:Permanences
END:VEVENT
BEGIN:VEVENT
DTSTART;TZID=Europe/Paris:20230720T193000
DTEND;TZID=Europe/Paris:20230720T223000
DTSTAMP:20260419T204210
CREATED:20230708T064828Z
LAST-MODIFIED:20230708T064841Z
UID:2046-1689881400-1689892200@escaladescb.fr
SUMMARY:Permanence (Avrillé)
DESCRIPTION:
URL:https://escaladescb.fr/event/permanence-avrille-340/
LOCATION:Salle Marie Paradis\, Avenue de la Ronde\, Avrillé\, 49240\, France
CATEGORIES:Permanences
END:VEVENT
BEGIN:VEVENT
DTSTART;TZID=Europe/Paris:20230725T193000
DTEND;TZID=Europe/Paris:20230725T223000
DTSTAMP:20260419T204210
CREATED:20230708T064931Z
LAST-MODIFIED:20230708T064931Z
UID:2048-1690313400-1690324200@escaladescb.fr
SUMMARY:Permanence (Avrillé)
DESCRIPTION:
URL:https://escaladescb.fr/event/permanence-avrille-341/
LOCATION:Salle Marie Paradis\, Avenue de la Ronde\, Avrillé\, 49240\, France
CATEGORIES:Permanences
END:VEVENT
BEGIN:VEVENT
DTSTART;TZID=Europe/Paris:20230727T193000
DTEND;TZID=Europe/Paris:20230727T223000
DTSTAMP:20260419T204210
CREATED:20230708T064957Z
LAST-MODIFIED:20230708T064957Z
UID:2050-1690486200-1690497000@escaladescb.fr
SUMMARY:Permanence (Avrillé)
DESCRIPTION:
URL:https://escaladescb.fr/event/permanence-avrille-342/
LOCATION:Salle Marie Paradis\, Avenue de la Ronde\, Avrillé\, 49240\, France
CATEGORIES:Permanences
END:VEVENT
END:VCALENDAR