BEGIN:VCALENDAR
VERSION:2.0
PRODID:-//SCB Escalade - ECPv6.15.20//NONSGML v1.0//EN
CALSCALE:GREGORIAN
METHOD:PUBLISH
X-ORIGINAL-URL:https://escaladescb.fr
X-WR-CALDESC:Évènements pour SCB Escalade
REFRESH-INTERVAL;VALUE=DURATION:PT1H
X-Robots-Tag:noindex
X-PUBLISHED-TTL:PT1H
BEGIN:VTIMEZONE
TZID:Europe/Paris
BEGIN:DAYLIGHT
TZOFFSETFROM:+0100
TZOFFSETTO:+0200
TZNAME:CEST
DTSTART:20220327T010000
END:DAYLIGHT
BEGIN:STANDARD
TZOFFSETFROM:+0200
TZOFFSETTO:+0100
TZNAME:CET
DTSTART:20221030T010000
END:STANDARD
BEGIN:DAYLIGHT
TZOFFSETFROM:+0100
TZOFFSETTO:+0200
TZNAME:CEST
DTSTART:20230326T010000
END:DAYLIGHT
BEGIN:STANDARD
TZOFFSETFROM:+0200
TZOFFSETTO:+0100
TZNAME:CET
DTSTART:20231029T010000
END:STANDARD
BEGIN:DAYLIGHT
TZOFFSETFROM:+0100
TZOFFSETTO:+0200
TZNAME:CEST
DTSTART:20240331T010000
END:DAYLIGHT
BEGIN:STANDARD
TZOFFSETFROM:+0200
TZOFFSETTO:+0100
TZNAME:CET
DTSTART:20241027T010000
END:STANDARD
END:VTIMEZONE
BEGIN:VEVENT
DTSTART;TZID=Europe/Paris:20230301T193000
DTEND;TZID=Europe/Paris:20230301T223000
DTSTAMP:20260420T034903
CREATED:20230228T214730Z
LAST-MODIFIED:20230228T214730Z
UID:1779-1677699000-1677709800@escaladescb.fr
SUMMARY:Permanence (Avrillé)
DESCRIPTION:
URL:https://escaladescb.fr/event/permanence-avrille-284/
LOCATION:Salle Marie Paradis\, Avenue de la Ronde\, Avrillé\, 49240\, France
CATEGORIES:Permanences
END:VEVENT
BEGIN:VEVENT
DTSTART;TZID=Europe/Paris:20230302T193000
DTEND;TZID=Europe/Paris:20230302T223000
DTSTAMP:20260420T034903
CREATED:20230228T214755Z
LAST-MODIFIED:20230228T214755Z
UID:1781-1677785400-1677796200@escaladescb.fr
SUMMARY:Permanence (Avrillé)
DESCRIPTION:
URL:https://escaladescb.fr/event/permanence-avrille-285/
LOCATION:Salle Marie Paradis\, Avenue de la Ronde\, Avrillé\, 49240\, France
CATEGORIES:Permanences
END:VEVENT
BEGIN:VEVENT
DTSTART;TZID=Europe/Paris:20230306T203000
DTEND;TZID=Europe/Paris:20230306T223000
DTSTAMP:20260420T034903
CREATED:20230228T214828Z
LAST-MODIFIED:20230228T214828Z
UID:1783-1678134600-1678141800@escaladescb.fr
SUMMARY:Permanence (Beaucouzé)
DESCRIPTION:
URL:https://escaladescb.fr/event/permanence-beaucouze-78/
LOCATION:Complexe Jacques Aubineau\, salle Pierre de Coubertin\, 5 Bis Avenue de la Grange aux Belles\, Beaucouzé\, 49070\, France
CATEGORIES:Permanences
END:VEVENT
BEGIN:VEVENT
DTSTART;TZID=Europe/Paris:20230307T210000
DTEND;TZID=Europe/Paris:20230307T223000
DTSTAMP:20260420T034903
CREATED:20230228T215015Z
LAST-MODIFIED:20230228T215015Z
UID:1785-1678222800-1678228200@escaladescb.fr
SUMMARY:Permanence (Avrillé)
DESCRIPTION:
URL:https://escaladescb.fr/event/permanence-avrille-286/
LOCATION:Salle Marie Paradis\, Avenue de la Ronde\, Avrillé\, 49240\, France
CATEGORIES:Permanences
END:VEVENT
BEGIN:VEVENT
DTSTART;TZID=Europe/Paris:20230308T193000
DTEND;TZID=Europe/Paris:20230308T223000
DTSTAMP:20260420T034903
CREATED:20230228T215039Z
LAST-MODIFIED:20230228T215138Z
UID:1787-1678303800-1678314600@escaladescb.fr
SUMMARY:Permanence (Avrillé)
DESCRIPTION:
URL:https://escaladescb.fr/event/permanence-avrille-287/
LOCATION:Salle Marie Paradis\, Avenue de la Ronde\, Avrillé\, 49240\, France
CATEGORIES:Permanences
END:VEVENT
BEGIN:VEVENT
DTSTART;TZID=Europe/Paris:20230311T143000
DTEND;TZID=Europe/Paris:20230311T173000
DTSTAMP:20260420T034903
CREATED:20230228T215233Z
LAST-MODIFIED:20230228T215233Z
UID:1789-1678545000-1678555800@escaladescb.fr
SUMMARY:Permanence (Avrillé)
DESCRIPTION:
URL:https://escaladescb.fr/event/permanence-avrille-288/
LOCATION:Salle Marie Paradis\, Avenue de la Ronde\, Avrillé\, 49240\, France
CATEGORIES:Permanences
END:VEVENT
BEGIN:VEVENT
DTSTART;TZID=Europe/Paris:20230314T210000
DTEND;TZID=Europe/Paris:20230314T223000
DTSTAMP:20260420T034903
CREATED:20230228T215404Z
LAST-MODIFIED:20230228T215404Z
UID:1793-1678827600-1678833000@escaladescb.fr
SUMMARY:Permanence (Avrillé)
DESCRIPTION:
URL:https://escaladescb.fr/event/permanence-avrille-289/
LOCATION:Salle Marie Paradis\, Avenue de la Ronde\, Avrillé\, 49240\, France
CATEGORIES:Permanences
END:VEVENT
BEGIN:VEVENT
DTSTART;TZID=Europe/Paris:20230316T193000
DTEND;TZID=Europe/Paris:20230316T223000
DTSTAMP:20260420T034903
CREATED:20230228T215458Z
LAST-MODIFIED:20230228T215458Z
UID:1795-1678995000-1679005800@escaladescb.fr
SUMMARY:Permanence (Avrillé)
DESCRIPTION:
URL:https://escaladescb.fr/event/permanence-avrille-290/
LOCATION:Salle Marie Paradis\, Avenue de la Ronde\, Avrillé\, 49240\, France
CATEGORIES:Permanences
END:VEVENT
BEGIN:VEVENT
DTSTART;TZID=Europe/Paris:20230320T203000
DTEND;TZID=Europe/Paris:20230320T223000
DTSTAMP:20260420T034903
CREATED:20230228T215623Z
LAST-MODIFIED:20230228T215623Z
UID:1797-1679344200-1679351400@escaladescb.fr
SUMMARY:Permanence (Beaucouzé)
DESCRIPTION:
URL:https://escaladescb.fr/event/permanence-beaucouze-80/
LOCATION:Complexe Jacques Aubineau\, salle Pierre de Coubertin\, 5 Bis Avenue de la Grange aux Belles\, Beaucouzé\, 49070\, France
CATEGORIES:Permanences
END:VEVENT
BEGIN:VEVENT
DTSTART;TZID=Europe/Paris:20230321T210000
DTEND;TZID=Europe/Paris:20230321T223000
DTSTAMP:20260420T034903
CREATED:20230228T215709Z
LAST-MODIFIED:20230228T215709Z
UID:1799-1679432400-1679437800@escaladescb.fr
SUMMARY:Permanence (Avrillé)
DESCRIPTION:
URL:https://escaladescb.fr/event/permanence-avrille-291/
LOCATION:Salle Marie Paradis\, Avenue de la Ronde\, Avrillé\, 49240\, France
CATEGORIES:Permanences
END:VEVENT
BEGIN:VEVENT
DTSTART;TZID=Europe/Paris:20230322T193000
DTEND;TZID=Europe/Paris:20230322T223000
DTSTAMP:20260420T034903
CREATED:20230228T215803Z
LAST-MODIFIED:20230228T215803Z
UID:1801-1679513400-1679524200@escaladescb.fr
SUMMARY:Permanence (Avrillé)
DESCRIPTION:
URL:https://escaladescb.fr/event/permanence-avrille-292/
LOCATION:Salle Marie Paradis\, Avenue de la Ronde\, Avrillé\, 49240\, France
CATEGORIES:Permanences
END:VEVENT
BEGIN:VEVENT
DTSTART;TZID=Europe/Paris:20230323T193000
DTEND;TZID=Europe/Paris:20230323T223000
DTSTAMP:20260420T034903
CREATED:20230228T215859Z
LAST-MODIFIED:20230228T215859Z
UID:1803-1679599800-1679610600@escaladescb.fr
SUMMARY:Permanence (Avrillé)
DESCRIPTION:
URL:https://escaladescb.fr/event/permanence-avrille-293/
LOCATION:Salle Marie Paradis\, Avenue de la Ronde\, Avrillé\, 49240\, France
CATEGORIES:Permanences
END:VEVENT
BEGIN:VEVENT
DTSTART;TZID=Europe/Paris:20230325T143000
DTEND;TZID=Europe/Paris:20230325T173000
DTSTAMP:20260420T034903
CREATED:20230228T215923Z
LAST-MODIFIED:20230228T215923Z
UID:1805-1679754600-1679765400@escaladescb.fr
SUMMARY:Permanence (Avrillé)
DESCRIPTION:
URL:https://escaladescb.fr/event/permanence-avrille-294/
LOCATION:Salle Marie Paradis\, Avenue de la Ronde\, Avrillé\, 49240\, France
CATEGORIES:Permanences
END:VEVENT
BEGIN:VEVENT
DTSTART;TZID=Europe/Paris:20230327T203000
DTEND;TZID=Europe/Paris:20230327T223000
DTSTAMP:20260420T034903
CREATED:20230228T220218Z
LAST-MODIFIED:20230228T220346Z
UID:1807-1679949000-1679956200@escaladescb.fr
SUMMARY:Permanence (Beaucouzé)
DESCRIPTION:
URL:https://escaladescb.fr/event/permanence-beaucouze-81/
LOCATION:Complexe Jacques Aubineau\, salle Pierre de Coubertin\, 5 Bis Avenue de la Grange aux Belles\, Beaucouzé\, 49070\, France
CATEGORIES:Permanences
END:VEVENT
BEGIN:VEVENT
DTSTART;TZID=Europe/Paris:20230328T210000
DTEND;TZID=Europe/Paris:20230328T223000
DTSTAMP:20260420T034903
CREATED:20230228T220303Z
LAST-MODIFIED:20230228T220303Z
UID:1809-1680037200-1680042600@escaladescb.fr
SUMMARY:Permanence (Avrillé)
DESCRIPTION:
URL:https://escaladescb.fr/event/permanence-avrille-295/
LOCATION:Salle Marie Paradis\, Avenue de la Ronde\, Avrillé\, 49240\, France
CATEGORIES:Permanences
END:VEVENT
BEGIN:VEVENT
DTSTART;TZID=Europe/Paris:20230330T193000
DTEND;TZID=Europe/Paris:20230330T223000
DTSTAMP:20260420T034903
CREATED:20230228T220540Z
LAST-MODIFIED:20230228T220540Z
UID:1811-1680204600-1680215400@escaladescb.fr
SUMMARY:Permanence (Avrillé)
DESCRIPTION:
URL:https://escaladescb.fr/event/permanence-avrille-296/
LOCATION:Salle Marie Paradis\, Avenue de la Ronde\, Avrillé\, 49240\, France
CATEGORIES:Permanences
END:VEVENT
END:VCALENDAR