BEGIN:VCALENDAR
VERSION:2.0
PRODID:-//SCB Escalade - ECPv6.15.20//NONSGML v1.0//EN
CALSCALE:GREGORIAN
METHOD:PUBLISH
X-ORIGINAL-URL:https://escaladescb.fr
X-WR-CALDESC:Évènements pour SCB Escalade
REFRESH-INTERVAL;VALUE=DURATION:PT1H
X-Robots-Tag:noindex
X-PUBLISHED-TTL:PT1H
BEGIN:VTIMEZONE
TZID:Europe/Paris
BEGIN:DAYLIGHT
TZOFFSETFROM:+0100
TZOFFSETTO:+0200
TZNAME:CEST
DTSTART:20220327T010000
END:DAYLIGHT
BEGIN:STANDARD
TZOFFSETFROM:+0200
TZOFFSETTO:+0100
TZNAME:CET
DTSTART:20221030T010000
END:STANDARD
BEGIN:DAYLIGHT
TZOFFSETFROM:+0100
TZOFFSETTO:+0200
TZNAME:CEST
DTSTART:20230326T010000
END:DAYLIGHT
BEGIN:STANDARD
TZOFFSETFROM:+0200
TZOFFSETTO:+0100
TZNAME:CET
DTSTART:20231029T010000
END:STANDARD
BEGIN:DAYLIGHT
TZOFFSETFROM:+0100
TZOFFSETTO:+0200
TZNAME:CEST
DTSTART:20240331T010000
END:DAYLIGHT
BEGIN:STANDARD
TZOFFSETFROM:+0200
TZOFFSETTO:+0100
TZNAME:CET
DTSTART:20241027T010000
END:STANDARD
END:VTIMEZONE
BEGIN:VEVENT
DTSTART;TZID=Europe/Paris:20230103T210000
DTEND;TZID=Europe/Paris:20230103T223000
DTSTAMP:20260420T051917
CREATED:20221229T200501Z
LAST-MODIFIED:20221229T200501Z
UID:1710-1672779600-1672785000@escaladescb.fr
SUMMARY:Permanence (Avrillé)
DESCRIPTION:
URL:https://escaladescb.fr/event/permanence-avrille-258/
LOCATION:Salle Marie Paradis\, Avenue de la Ronde\, Avrillé\, 49240\, France
CATEGORIES:Permanences
END:VEVENT
BEGIN:VEVENT
DTSTART;TZID=Europe/Paris:20230104T193000
DTEND;TZID=Europe/Paris:20230104T223000
DTSTAMP:20260420T051917
CREATED:20221229T200543Z
LAST-MODIFIED:20221229T200544Z
UID:1712-1672860600-1672871400@escaladescb.fr
SUMMARY:Permanence (Avrillé)
DESCRIPTION:
URL:https://escaladescb.fr/event/permanence-avrille-259/
LOCATION:Salle Marie Paradis\, Avenue de la Ronde\, Avrillé\, 49240\, France
END:VEVENT
BEGIN:VEVENT
DTSTART;TZID=Europe/Paris:20230105T193000
DTEND;TZID=Europe/Paris:20230105T223000
DTSTAMP:20260420T051917
CREATED:20221229T200620Z
LAST-MODIFIED:20221229T200620Z
UID:1714-1672947000-1672957800@escaladescb.fr
SUMMARY:Permanence (Avrillé)
DESCRIPTION:
URL:https://escaladescb.fr/event/permanence-avrille-260/
LOCATION:Salle Marie Paradis\, Avenue de la Ronde\, Avrillé\, 49240\, France
CATEGORIES:Permanences
END:VEVENT
BEGIN:VEVENT
DTSTART;TZID=Europe/Paris:20230107T143000
DTEND;TZID=Europe/Paris:20230107T173000
DTSTAMP:20260420T051917
CREATED:20221229T200659Z
LAST-MODIFIED:20221229T200659Z
UID:1716-1673101800-1673112600@escaladescb.fr
SUMMARY:Permanence (Avrillé)
DESCRIPTION:
URL:https://escaladescb.fr/event/permanence-avrille-261/
LOCATION:Salle Marie Paradis\, Avenue de la Ronde\, Avrillé\, 49240\, France
CATEGORIES:Permanences
END:VEVENT
BEGIN:VEVENT
DTSTART;TZID=Europe/Paris:20230109T203000
DTEND;TZID=Europe/Paris:20230109T223000
DTSTAMP:20260420T051917
CREATED:20221229T200732Z
LAST-MODIFIED:20221229T200820Z
UID:1718-1673296200-1673303400@escaladescb.fr
SUMMARY:Permanence (Beaucouzé)
DESCRIPTION:
URL:https://escaladescb.fr/event/permanence-beaucouze-72/
LOCATION:Complexe Jacques Aubineau\, salle Pierre de Coubertin\, 5 Bis Avenue de la Grange aux Belles\, Beaucouzé\, 49070\, France
CATEGORIES:Permanences
END:VEVENT
BEGIN:VEVENT
DTSTART;TZID=Europe/Paris:20230110T210000
DTEND;TZID=Europe/Paris:20230110T223000
DTSTAMP:20260420T051917
CREATED:20221229T200805Z
LAST-MODIFIED:20221229T200805Z
UID:1720-1673384400-1673389800@escaladescb.fr
SUMMARY:Permanence (Avrillé)
DESCRIPTION:
URL:https://escaladescb.fr/event/permanence-avrille-262/
LOCATION:Salle Marie Paradis\, Avenue de la Ronde\, Avrillé\, 49240\, France
CATEGORIES:Permanences
END:VEVENT
BEGIN:VEVENT
DTSTART;TZID=Europe/Paris:20230112T193000
DTEND;TZID=Europe/Paris:20230112T223000
DTSTAMP:20260420T051917
CREATED:20221229T200855Z
LAST-MODIFIED:20221229T200855Z
UID:1722-1673551800-1673562600@escaladescb.fr
SUMMARY:Permanence (Avrillé)
DESCRIPTION:
URL:https://escaladescb.fr/event/permanence-avrille-263/
LOCATION:Salle Marie Paradis\, Avenue de la Ronde\, Avrillé\, 49240\, France
CATEGORIES:Permanences
END:VEVENT
BEGIN:VEVENT
DTSTART;TZID=Europe/Paris:20230114T143000
DTEND;TZID=Europe/Paris:20230114T173000
DTSTAMP:20260420T051917
CREATED:20221229T200934Z
LAST-MODIFIED:20221229T200934Z
UID:1724-1673706600-1673717400@escaladescb.fr
SUMMARY:Permanence (Avrillé)
DESCRIPTION:
URL:https://escaladescb.fr/event/permanence-avrille-264/
LOCATION:Salle Marie Paradis\, Avenue de la Ronde\, Avrillé\, 49240\, France
CATEGORIES:Permanences
END:VEVENT
BEGIN:VEVENT
DTSTART;TZID=Europe/Paris:20230116T203000
DTEND;TZID=Europe/Paris:20230116T223000
DTSTAMP:20260420T051917
CREATED:20221229T201043Z
LAST-MODIFIED:20221229T201043Z
UID:1726-1673901000-1673908200@escaladescb.fr
SUMMARY:Permanence (Beaucouzé)
DESCRIPTION:
URL:https://escaladescb.fr/event/permanence-beaucouze-73/
LOCATION:Complexe Jacques Aubineau\, salle Pierre de Coubertin\, 5 Bis Avenue de la Grange aux Belles\, Beaucouzé\, 49070\, France
CATEGORIES:Permanences
END:VEVENT
BEGIN:VEVENT
DTSTART;TZID=Europe/Paris:20230117T210000
DTEND;TZID=Europe/Paris:20230117T223000
DTSTAMP:20260420T051917
CREATED:20221229T201107Z
LAST-MODIFIED:20221229T201107Z
UID:1728-1673989200-1673994600@escaladescb.fr
SUMMARY:Permanence (Avrillé)
DESCRIPTION:
URL:https://escaladescb.fr/event/permanence-avrille-265/
LOCATION:Salle Marie Paradis\, Avenue de la Ronde\, Avrillé\, 49240\, France
CATEGORIES:Permanences
END:VEVENT
BEGIN:VEVENT
DTSTART;TZID=Europe/Paris:20230118T193000
DTEND;TZID=Europe/Paris:20230118T223000
DTSTAMP:20260420T051917
CREATED:20221229T201133Z
LAST-MODIFIED:20221229T201133Z
UID:1730-1674070200-1674081000@escaladescb.fr
SUMMARY:Permanence (Avrillé)
DESCRIPTION:
URL:https://escaladescb.fr/event/permanence-avrille-266/
LOCATION:Salle Marie Paradis\, Avenue de la Ronde\, Avrillé\, 49240\, France
CATEGORIES:Permanences
END:VEVENT
BEGIN:VEVENT
DTSTART;TZID=Europe/Paris:20230121T143000
DTEND;TZID=Europe/Paris:20230121T173000
DTSTAMP:20260420T051917
CREATED:20221229T201200Z
LAST-MODIFIED:20221229T201200Z
UID:1732-1674311400-1674322200@escaladescb.fr
SUMMARY:Permanence (Avrillé)
DESCRIPTION:
URL:https://escaladescb.fr/event/permanence-avrille-267/
LOCATION:Salle Marie Paradis\, Avenue de la Ronde\, Avrillé\, 49240\, France
CATEGORIES:Permanences
END:VEVENT
BEGIN:VEVENT
DTSTART;TZID=Europe/Paris:20230123T203000
DTEND;TZID=Europe/Paris:20230123T223000
DTSTAMP:20260420T051917
CREATED:20221229T201254Z
LAST-MODIFIED:20221229T201254Z
UID:1734-1674505800-1674513000@escaladescb.fr
SUMMARY:Permanence (Beaucouzé)
DESCRIPTION:
URL:https://escaladescb.fr/event/permanence-beaucouze-74/
LOCATION:Complexe Jacques Aubineau\, salle Pierre de Coubertin\, 5 Bis Avenue de la Grange aux Belles\, Beaucouzé\, 49070\, France
CATEGORIES:Permanences
END:VEVENT
BEGIN:VEVENT
DTSTART;TZID=Europe/Paris:20230124T210000
DTEND;TZID=Europe/Paris:20230124T223000
DTSTAMP:20260420T051917
CREATED:20221229T201327Z
LAST-MODIFIED:20221229T201327Z
UID:1736-1674594000-1674599400@escaladescb.fr
SUMMARY:Permanence (Avrillé)
DESCRIPTION:
URL:https://escaladescb.fr/event/permanence-avrille-268/
LOCATION:Salle Marie Paradis\, Avenue de la Ronde\, Avrillé\, 49240\, France
CATEGORIES:Permanences
END:VEVENT
BEGIN:VEVENT
DTSTART;TZID=Europe/Paris:20230125T193000
DTEND;TZID=Europe/Paris:20230125T223000
DTSTAMP:20260420T051917
CREATED:20221229T201352Z
LAST-MODIFIED:20221229T201352Z
UID:1738-1674675000-1674685800@escaladescb.fr
SUMMARY:Permanence (Avrillé)
DESCRIPTION:
URL:https://escaladescb.fr/event/permanence-avrille-269/
LOCATION:Salle Marie Paradis\, Avenue de la Ronde\, Avrillé\, 49240\, France
CATEGORIES:Permanences
END:VEVENT
BEGIN:VEVENT
DTSTART;TZID=Europe/Paris:20230126T193000
DTEND;TZID=Europe/Paris:20230126T223000
DTSTAMP:20260420T051917
CREATED:20221229T201420Z
LAST-MODIFIED:20221229T201420Z
UID:1740-1674761400-1674772200@escaladescb.fr
SUMMARY:Permanence (Avrillé)
DESCRIPTION:
URL:https://escaladescb.fr/event/permanence-avrille-270/
LOCATION:Salle Marie Paradis\, Avenue de la Ronde\, Avrillé\, 49240\, France
CATEGORIES:Permanences
END:VEVENT
BEGIN:VEVENT
DTSTART;TZID=Europe/Paris:20230130T203000
DTEND;TZID=Europe/Paris:20230130T223000
DTSTAMP:20260420T051917
CREATED:20221229T201458Z
LAST-MODIFIED:20221229T201458Z
UID:1742-1675110600-1675117800@escaladescb.fr
SUMMARY:Permanence (Beaucouzé)
DESCRIPTION:
URL:https://escaladescb.fr/event/permanence-beaucouze-75/
LOCATION:Complexe Jacques Aubineau\, salle Pierre de Coubertin\, 5 Bis Avenue de la Grange aux Belles\, Beaucouzé\, 49070\, France
CATEGORIES:Permanences
END:VEVENT
BEGIN:VEVENT
DTSTART;TZID=Europe/Paris:20230131T210000
DTEND;TZID=Europe/Paris:20230131T223000
DTSTAMP:20260420T051917
CREATED:20221229T201519Z
LAST-MODIFIED:20221229T201519Z
UID:1744-1675198800-1675204200@escaladescb.fr
SUMMARY:Permanence (Avrillé)
DESCRIPTION:
URL:https://escaladescb.fr/event/permanence-avrille-271/
LOCATION:Salle Marie Paradis\, Avenue de la Ronde\, Avrillé\, 49240\, France
CATEGORIES:Permanences
END:VEVENT
END:VCALENDAR