BEGIN:VCALENDAR
VERSION:2.0
PRODID:-//SCB Escalade - ECPv6.15.20//NONSGML v1.0//EN
CALSCALE:GREGORIAN
METHOD:PUBLISH
X-ORIGINAL-URL:https://escaladescb.fr
X-WR-CALDESC:Évènements pour SCB Escalade
REFRESH-INTERVAL;VALUE=DURATION:PT1H
X-Robots-Tag:noindex
X-PUBLISHED-TTL:PT1H
BEGIN:VTIMEZONE
TZID:Europe/Paris
BEGIN:DAYLIGHT
TZOFFSETFROM:+0100
TZOFFSETTO:+0200
TZNAME:CEST
DTSTART:20210328T010000
END:DAYLIGHT
BEGIN:STANDARD
TZOFFSETFROM:+0200
TZOFFSETTO:+0100
TZNAME:CET
DTSTART:20211031T010000
END:STANDARD
BEGIN:DAYLIGHT
TZOFFSETFROM:+0100
TZOFFSETTO:+0200
TZNAME:CEST
DTSTART:20220327T010000
END:DAYLIGHT
BEGIN:STANDARD
TZOFFSETFROM:+0200
TZOFFSETTO:+0100
TZNAME:CET
DTSTART:20221030T010000
END:STANDARD
BEGIN:DAYLIGHT
TZOFFSETFROM:+0100
TZOFFSETTO:+0200
TZNAME:CEST
DTSTART:20230326T010000
END:DAYLIGHT
BEGIN:STANDARD
TZOFFSETFROM:+0200
TZOFFSETTO:+0100
TZNAME:CET
DTSTART:20231029T010000
END:STANDARD
END:VTIMEZONE
BEGIN:VEVENT
DTSTART;TZID=Europe/Paris:20221001T143000
DTEND;TZID=Europe/Paris:20221001T173000
DTSTAMP:20260420T092644
CREATED:20220909T151344Z
LAST-MODIFIED:20220909T151344Z
UID:1562-1664634600-1664645400@escaladescb.fr
SUMMARY:Permanence (Avrillé)
DESCRIPTION:
URL:https://escaladescb.fr/event/permanence-avrille-216/
LOCATION:Salle Marie Paradis\, Avenue de la Ronde\, Avrillé\, 49240\, France
CATEGORIES:Permanences
END:VEVENT
BEGIN:VEVENT
DTSTART;TZID=Europe/Paris:20221003T203000
DTEND;TZID=Europe/Paris:20221003T213000
DTSTAMP:20260420T092644
CREATED:20220924T095455Z
LAST-MODIFIED:20220924T095455Z
UID:1604-1664829000-1664832600@escaladescb.fr
SUMMARY:Assemblée Générale SCB Escalade
DESCRIPTION:
URL:https://escaladescb.fr/event/assemblee-generale-scb-escalade/
CATEGORIES:Vie du club
END:VEVENT
BEGIN:VEVENT
DTSTART;TZID=Europe/Paris:20221004T210000
DTEND;TZID=Europe/Paris:20221004T223000
DTSTAMP:20260420T092644
CREATED:20220917T120348Z
LAST-MODIFIED:20220917T120348Z
UID:1575-1664917200-1664922600@escaladescb.fr
SUMMARY:Permanence (Avrillé)
DESCRIPTION:
URL:https://escaladescb.fr/event/permanence-avrille-217/
LOCATION:Salle Marie Paradis\, Avenue de la Ronde\, Avrillé\, 49240\, France
CATEGORIES:Permanences
END:VEVENT
BEGIN:VEVENT
DTSTART;TZID=Europe/Paris:20221005T193000
DTEND;TZID=Europe/Paris:20221005T223000
DTSTAMP:20260420T092644
CREATED:20220917T120411Z
LAST-MODIFIED:20220917T120411Z
UID:1577-1664998200-1665009000@escaladescb.fr
SUMMARY:Permanence (Avrillé)
DESCRIPTION:
URL:https://escaladescb.fr/event/permanence-avrille-218/
LOCATION:Salle Marie Paradis\, Avenue de la Ronde\, Avrillé\, 49240\, France
CATEGORIES:Permanences
END:VEVENT
BEGIN:VEVENT
DTSTART;TZID=Europe/Paris:20221006T193000
DTEND;TZID=Europe/Paris:20221006T223000
DTSTAMP:20260420T092644
CREATED:20221002T184822Z
LAST-MODIFIED:20221002T184822Z
UID:1608-1665084600-1665095400@escaladescb.fr
SUMMARY:Permanence (Avrillé)
DESCRIPTION:
URL:https://escaladescb.fr/event/permanence-avrille-227/
LOCATION:Salle Marie Paradis\, Avenue de la Ronde\, Avrillé\, 49240\, France
CATEGORIES:Permanences
END:VEVENT
BEGIN:VEVENT
DTSTART;TZID=Europe/Paris:20221008T143000
DTEND;TZID=Europe/Paris:20221008T173000
DTSTAMP:20260420T092644
CREATED:20220917T120447Z
LAST-MODIFIED:20220917T120447Z
UID:1579-1665239400-1665250200@escaladescb.fr
SUMMARY:Permanence (Avrillé)
DESCRIPTION:
URL:https://escaladescb.fr/event/permanence-avrille-219/
LOCATION:Salle Marie Paradis\, Avenue de la Ronde\, Avrillé\, 49240\, France
CATEGORIES:Permanences
END:VEVENT
BEGIN:VEVENT
DTSTART;TZID=Europe/Paris:20221010T203000
DTEND;TZID=Europe/Paris:20221010T223000
DTSTAMP:20260420T092644
CREATED:20220917T120600Z
LAST-MODIFIED:20220917T120600Z
UID:1581-1665433800-1665441000@escaladescb.fr
SUMMARY:Permanence (Beaucouzé)
DESCRIPTION:
URL:https://escaladescb.fr/event/permanence-beaucouze-64/
LOCATION:Salle Marie Paradis\, Avenue de la Ronde\, Avrillé\, 49240\, France
CATEGORIES:Permanences
END:VEVENT
BEGIN:VEVENT
DTSTART;TZID=Europe/Paris:20221011T210000
DTEND;TZID=Europe/Paris:20221011T223000
DTSTAMP:20260420T092644
CREATED:20220917T120626Z
LAST-MODIFIED:20220917T120626Z
UID:1583-1665522000-1665527400@escaladescb.fr
SUMMARY:Permanence (Avrillé)
DESCRIPTION:
URL:https://escaladescb.fr/event/permanence-avrille-220/
LOCATION:Salle Marie Paradis\, Avenue de la Ronde\, Avrillé\, 49240\, France
CATEGORIES:Permanences
END:VEVENT
BEGIN:VEVENT
DTSTART;TZID=Europe/Paris:20221012T193000
DTEND;TZID=Europe/Paris:20221012T223000
DTSTAMP:20260420T092644
CREATED:20220917T120652Z
LAST-MODIFIED:20220917T120652Z
UID:1585-1665603000-1665613800@escaladescb.fr
SUMMARY:Permanence (Avrillé)
DESCRIPTION:
URL:https://escaladescb.fr/event/permanence-avrille-221/
LOCATION:Salle Marie Paradis\, Avenue de la Ronde\, Avrillé\, 49240\, France
CATEGORIES:Permanences
END:VEVENT
BEGIN:VEVENT
DTSTART;TZID=Europe/Paris:20221013T193000
DTEND;TZID=Europe/Paris:20221013T223000
DTSTAMP:20260420T092644
CREATED:20220917T120732Z
LAST-MODIFIED:20220917T120732Z
UID:1587-1665689400-1665700200@escaladescb.fr
SUMMARY:Permanence (Avrillé)
DESCRIPTION:
URL:https://escaladescb.fr/event/permanence-avrille-222/
LOCATION:Salle Marie Paradis\, Avenue de la Ronde\, Avrillé\, 49240\, France
CATEGORIES:Permanences
END:VEVENT
BEGIN:VEVENT
DTSTART;TZID=Europe/Paris:20221015T143000
DTEND;TZID=Europe/Paris:20221015T173000
DTSTAMP:20260420T092644
CREATED:20220917T120800Z
LAST-MODIFIED:20220917T120800Z
UID:1589-1665844200-1665855000@escaladescb.fr
SUMMARY:Permanence (Avrillé)
DESCRIPTION:
URL:https://escaladescb.fr/event/permanence-avrille-223/
LOCATION:Salle Marie Paradis\, Avenue de la Ronde\, Avrillé\, 49240\, France
CATEGORIES:Permanences
END:VEVENT
BEGIN:VEVENT
DTSTART;VALUE=DATE:20221016
DTEND;VALUE=DATE:20221017
DTSTAMP:20260420T092644
CREATED:20221013T172233Z
LAST-MODIFIED:20221013T172233Z
UID:1611-1665878400-1665964799@escaladescb.fr
SUMMARY:MELT - ASA Avrillé
DESCRIPTION:
URL:https://escaladescb.fr/event/melt-asa-avrille/
LOCATION:Salle Marie Paradis\, Avenue de la Ronde\, Avrillé\, 49240\, France
CATEGORIES:Vie du club
END:VEVENT
BEGIN:VEVENT
DTSTART;TZID=Europe/Paris:20221017T203000
DTEND;TZID=Europe/Paris:20221017T223000
DTSTAMP:20260420T092644
CREATED:20220917T120936Z
LAST-MODIFIED:20220917T120936Z
UID:1591-1666038600-1666045800@escaladescb.fr
SUMMARY:Permanence (Beaucouzé)
DESCRIPTION:
URL:https://escaladescb.fr/event/permanence-beaucouze-65/
LOCATION:Salle Marie Paradis\, Avenue de la Ronde\, Avrillé\, 49240\, France
CATEGORIES:Permanences
END:VEVENT
BEGIN:VEVENT
DTSTART;TZID=Europe/Paris:20221018T210000
DTEND;TZID=Europe/Paris:20221018T223000
DTSTAMP:20260420T092644
CREATED:20220917T121021Z
LAST-MODIFIED:20220917T121021Z
UID:1593-1666126800-1666132200@escaladescb.fr
SUMMARY:Permanence (Avrillé)
DESCRIPTION:
URL:https://escaladescb.fr/event/permanence-avrille-224/
LOCATION:Salle Marie Paradis\, Avenue de la Ronde\, Avrillé\, 49240\, France
CATEGORIES:Permanences
END:VEVENT
BEGIN:VEVENT
DTSTART;TZID=Europe/Paris:20221019T193000
DTEND;TZID=Europe/Paris:20221019T223000
DTSTAMP:20260420T092644
CREATED:20220917T121041Z
LAST-MODIFIED:20220917T121041Z
UID:1595-1666207800-1666218600@escaladescb.fr
SUMMARY:Permanence (Avrillé)
DESCRIPTION:
URL:https://escaladescb.fr/event/permanence-avrille-225/
LOCATION:Salle Marie Paradis\, Avenue de la Ronde\, Avrillé\, 49240\, France
CATEGORIES:Permanences
END:VEVENT
BEGIN:VEVENT
DTSTART;TZID=Europe/Paris:20221020T193000
DTEND;TZID=Europe/Paris:20221020T223000
DTSTAMP:20260420T092644
CREATED:20220917T121107Z
LAST-MODIFIED:20220917T121107Z
UID:1597-1666294200-1666305000@escaladescb.fr
SUMMARY:Permanence (Avrillé)
DESCRIPTION:
URL:https://escaladescb.fr/event/permanence-avrille-226/
LOCATION:Salle Marie Paradis\, Avenue de la Ronde\, Avrillé\, 49240\, France
CATEGORIES:Permanences
END:VEVENT
BEGIN:VEVENT
DTSTART;TZID=Europe/Paris:20221024T193000
DTEND;TZID=Europe/Paris:20221024T223000
DTSTAMP:20260420T092644
CREATED:20221020T210049Z
LAST-MODIFIED:20221020T210104Z
UID:1615-1666639800-1666650600@escaladescb.fr
SUMMARY:Permanence (Avrillé)
DESCRIPTION:
URL:https://escaladescb.fr/event/permanence-avrille-228/
LOCATION:Salle Marie Paradis\, Avenue de la Ronde\, Avrillé\, 49240\, France
CATEGORIES:Permanences
END:VEVENT
BEGIN:VEVENT
DTSTART;TZID=Europe/Paris:20221025T193000
DTEND;TZID=Europe/Paris:20221025T223000
DTSTAMP:20260420T092644
CREATED:20221020T210126Z
LAST-MODIFIED:20221020T210126Z
UID:1617-1666726200-1666737000@escaladescb.fr
SUMMARY:Permanence (Avrillé)
DESCRIPTION:
URL:https://escaladescb.fr/event/permanence-avrille-229/
LOCATION:Salle Marie Paradis\, Avenue de la Ronde\, Avrillé\, 49240\, France
CATEGORIES:Permanences
END:VEVENT
BEGIN:VEVENT
DTSTART;TZID=Europe/Paris:20221026T193000
DTEND;TZID=Europe/Paris:20221026T223000
DTSTAMP:20260420T092644
CREATED:20221020T210202Z
LAST-MODIFIED:20221020T210202Z
UID:1619-1666812600-1666823400@escaladescb.fr
SUMMARY:Permanence (Avrillé)
DESCRIPTION:
URL:https://escaladescb.fr/event/permanence-avrille-230/
LOCATION:Salle Marie Paradis\, Avenue de la Ronde\, Avrillé\, 49240\, France
CATEGORIES:Permanences
END:VEVENT
END:VCALENDAR