BEGIN:VCALENDAR
VERSION:2.0
PRODID:-//SCB Escalade - ECPv6.15.20//NONSGML v1.0//EN
CALSCALE:GREGORIAN
METHOD:PUBLISH
X-ORIGINAL-URL:https://escaladescb.fr
X-WR-CALDESC:Évènements pour SCB Escalade
REFRESH-INTERVAL;VALUE=DURATION:PT1H
X-Robots-Tag:noindex
X-PUBLISHED-TTL:PT1H
BEGIN:VTIMEZONE
TZID:Europe/Paris
BEGIN:DAYLIGHT
TZOFFSETFROM:+0100
TZOFFSETTO:+0200
TZNAME:CEST
DTSTART:20210328T010000
END:DAYLIGHT
BEGIN:STANDARD
TZOFFSETFROM:+0200
TZOFFSETTO:+0100
TZNAME:CET
DTSTART:20211031T010000
END:STANDARD
BEGIN:DAYLIGHT
TZOFFSETFROM:+0100
TZOFFSETTO:+0200
TZNAME:CEST
DTSTART:20220327T010000
END:DAYLIGHT
BEGIN:STANDARD
TZOFFSETFROM:+0200
TZOFFSETTO:+0100
TZNAME:CET
DTSTART:20221030T010000
END:STANDARD
BEGIN:DAYLIGHT
TZOFFSETFROM:+0100
TZOFFSETTO:+0200
TZNAME:CEST
DTSTART:20230326T010000
END:DAYLIGHT
BEGIN:STANDARD
TZOFFSETFROM:+0200
TZOFFSETTO:+0100
TZNAME:CET
DTSTART:20231029T010000
END:STANDARD
END:VTIMEZONE
BEGIN:VEVENT
DTSTART;TZID=Europe/Paris:20220910T143000
DTEND;TZID=Europe/Paris:20220910T173000
DTSTAMP:20260424T105530
CREATED:20220909T142112Z
LAST-MODIFIED:20220909T142112Z
UID:1532-1662820200-1662831000@escaladescb.fr
SUMMARY:Permanence (Avrillé)
DESCRIPTION:
URL:https://escaladescb.fr/event/permanence-avrille-204/
LOCATION:Salle Marie Paradis\, Avenue de la Ronde\, Avrillé\, 49240\, France
CATEGORIES:Permanences
END:VEVENT
BEGIN:VEVENT
DTSTART;TZID=Europe/Paris:20220912T203000
DTEND;TZID=Europe/Paris:20220912T223000
DTSTAMP:20260424T105530
CREATED:20220909T142700Z
LAST-MODIFIED:20220909T142700Z
UID:1534-1663014600-1663021800@escaladescb.fr
SUMMARY:Permanence (Beaucouzé)
DESCRIPTION:
URL:https://escaladescb.fr/event/permanence-beaucouze-61/
LOCATION:Complexe Jacques Aubineau\, salle Pierre de Coubertin\, 5 Bis Avenue de la Grange aux Belles\, Beaucouzé\, 49070\, France
CATEGORIES:Permanences
END:VEVENT
BEGIN:VEVENT
DTSTART;TZID=Europe/Paris:20220913T210000
DTEND;TZID=Europe/Paris:20220913T223000
DTSTAMP:20260424T105530
CREATED:20220909T142826Z
LAST-MODIFIED:20220909T142826Z
UID:1536-1663102800-1663108200@escaladescb.fr
SUMMARY:Permanence (Avrillé)
DESCRIPTION:
URL:https://escaladescb.fr/event/permanence-avrille-205/
LOCATION:Salle Marie Paradis\, Avenue de la Ronde\, Avrillé\, 49240\, France
CATEGORIES:Permanences
END:VEVENT
BEGIN:VEVENT
DTSTART;TZID=Europe/Paris:20220914T193000
DTEND;TZID=Europe/Paris:20220914T223000
DTSTAMP:20260424T105530
CREATED:20220909T143216Z
LAST-MODIFIED:20220909T143216Z
UID:1538-1663183800-1663194600@escaladescb.fr
SUMMARY:Permanence (Avrillé)
DESCRIPTION:
URL:https://escaladescb.fr/event/permanence-avrille-206/
LOCATION:Salle Marie Paradis\, Avenue de la Ronde\, Avrillé\, 49240\, France
CATEGORIES:Permanences
END:VEVENT
BEGIN:VEVENT
DTSTART;TZID=Europe/Paris:20220915T193000
DTEND;TZID=Europe/Paris:20220915T223000
DTSTAMP:20260424T105530
CREATED:20220909T143239Z
LAST-MODIFIED:20220909T143239Z
UID:1540-1663270200-1663281000@escaladescb.fr
SUMMARY:Permanence (Avrillé)
DESCRIPTION:
URL:https://escaladescb.fr/event/permanence-avrille-207/
LOCATION:Salle Marie Paradis\, Avenue de la Ronde\, Avrillé\, 49240\, France
CATEGORIES:Permanences
END:VEVENT
BEGIN:VEVENT
DTSTART;TZID=Europe/Paris:20220917T143000
DTEND;TZID=Europe/Paris:20220917T173000
DTSTAMP:20260424T105530
CREATED:20220909T143817Z
LAST-MODIFIED:20220909T143817Z
UID:1542-1663425000-1663435800@escaladescb.fr
SUMMARY:Permanence (Avrillé)
DESCRIPTION:
URL:https://escaladescb.fr/event/permanence-avrille-208/
LOCATION:Salle Marie Paradis\, Avenue de la Ronde\, Avrillé\, 49240\, France
CATEGORIES:Permanences
END:VEVENT
BEGIN:VEVENT
DTSTART;TZID=Europe/Paris:20220919T203000
DTEND;TZID=Europe/Paris:20220919T223000
DTSTAMP:20260424T105530
CREATED:20220909T144436Z
LAST-MODIFIED:20220909T144436Z
UID:1544-1663619400-1663626600@escaladescb.fr
SUMMARY:Permanence (Beaucouzé)
DESCRIPTION:
URL:https://escaladescb.fr/event/permanence-beaucouze-62/
LOCATION:Complexe Jacques Aubineau\, salle Pierre de Coubertin\, 5 Bis Avenue de la Grange aux Belles\, Beaucouzé\, 49070\, France
CATEGORIES:Permanences
END:VEVENT
BEGIN:VEVENT
DTSTART;TZID=Europe/Paris:20220920T210000
DTEND;TZID=Europe/Paris:20220920T223000
DTSTAMP:20260424T105530
CREATED:20220909T144930Z
LAST-MODIFIED:20220909T144930Z
UID:1546-1663707600-1663713000@escaladescb.fr
SUMMARY:Permanence (Avrillé)
DESCRIPTION:
URL:https://escaladescb.fr/event/permanence-avrille-209/
LOCATION:Salle Marie Paradis\, Avenue de la Ronde\, Avrillé\, 49240\, France
CATEGORIES:Permanences
END:VEVENT
BEGIN:VEVENT
DTSTART;TZID=Europe/Paris:20220921T193000
DTEND;TZID=Europe/Paris:20220921T223000
DTSTAMP:20260424T105530
CREATED:20220909T144953Z
LAST-MODIFIED:20220909T144953Z
UID:1548-1663788600-1663799400@escaladescb.fr
SUMMARY:Permanence (Avrillé)
DESCRIPTION:
URL:https://escaladescb.fr/event/permanence-avrille-210/
LOCATION:Salle Marie Paradis\, Avenue de la Ronde\, Avrillé\, 49240\, France
CATEGORIES:Permanences
END:VEVENT
BEGIN:VEVENT
DTSTART;TZID=Europe/Paris:20220922T193000
DTEND;TZID=Europe/Paris:20220922T223000
DTSTAMP:20260424T105530
CREATED:20220909T145126Z
LAST-MODIFIED:20220909T145126Z
UID:1550-1663875000-1663885800@escaladescb.fr
SUMMARY:Permanence (Avrillé)
DESCRIPTION:
URL:https://escaladescb.fr/event/permanence-avrille-211/
LOCATION:Salle Marie Paradis\, Avenue de la Ronde\, Avrillé\, 49240\, France
CATEGORIES:Permanences
END:VEVENT
BEGIN:VEVENT
DTSTART;TZID=Europe/Paris:20220924T143000
DTEND;TZID=Europe/Paris:20220924T173000
DTSTAMP:20260424T105530
CREATED:20220909T145654Z
LAST-MODIFIED:20220909T145654Z
UID:1552-1664029800-1664040600@escaladescb.fr
SUMMARY:Permanence (Avrillé)
DESCRIPTION:
URL:https://escaladescb.fr/event/permanence-avrille-212/
LOCATION:Salle Marie Paradis\, Avenue de la Ronde\, Avrillé\, 49240\, France
CATEGORIES:Permanences
END:VEVENT
BEGIN:VEVENT
DTSTART;TZID=Europe/Paris:20220926T203000
DTEND;TZID=Europe/Paris:20220926T223000
DTSTAMP:20260424T105530
CREATED:20220909T150019Z
LAST-MODIFIED:20220909T150019Z
UID:1554-1664224200-1664231400@escaladescb.fr
SUMMARY:Permanence (Beaucouzé)
DESCRIPTION:
URL:https://escaladescb.fr/event/permanence-beaucouze-63/
LOCATION:Complexe Jacques Aubineau\, salle Pierre de Coubertin\, 5 Bis Avenue de la Grange aux Belles\, Beaucouzé\, 49070\, France
CATEGORIES:Permanences
END:VEVENT
BEGIN:VEVENT
DTSTART;TZID=Europe/Paris:20220927T210000
DTEND;TZID=Europe/Paris:20220927T223000
DTSTAMP:20260424T105530
CREATED:20220909T150517Z
LAST-MODIFIED:20220909T150517Z
UID:1556-1664312400-1664317800@escaladescb.fr
SUMMARY:Permanence (Avrillé)
DESCRIPTION:
URL:https://escaladescb.fr/event/permanence-avrille-213/
LOCATION:Salle Marie Paradis\, Avenue de la Ronde\, Avrillé\, 49240\, France
CATEGORIES:Permanences
END:VEVENT
BEGIN:VEVENT
DTSTART;TZID=Europe/Paris:20220928T193000
DTEND;TZID=Europe/Paris:20220928T223000
DTSTAMP:20260424T105530
CREATED:20220909T150540Z
LAST-MODIFIED:20220909T150540Z
UID:1558-1664393400-1664404200@escaladescb.fr
SUMMARY:Permanence (Avrillé)
DESCRIPTION:
URL:https://escaladescb.fr/event/permanence-avrille-214/
LOCATION:Salle Marie Paradis\, Avenue de la Ronde\, Avrillé\, 49240\, France
CATEGORIES:Permanences
END:VEVENT
BEGIN:VEVENT
DTSTART;TZID=Europe/Paris:20220929T193000
DTEND;TZID=Europe/Paris:20220929T223000
DTSTAMP:20260424T105530
CREATED:20220909T151123Z
LAST-MODIFIED:20220909T151123Z
UID:1560-1664479800-1664490600@escaladescb.fr
SUMMARY:Permanence (Avrillé)
DESCRIPTION:
URL:https://escaladescb.fr/event/permanence-avrille-215/
LOCATION:Salle Marie Paradis\, Avenue de la Ronde\, Avrillé\, 49240\, France
CATEGORIES:Permanences
END:VEVENT
END:VCALENDAR