BEGIN:VCALENDAR
VERSION:2.0
PRODID:-//SCB Escalade - ECPv6.15.20//NONSGML v1.0//EN
CALSCALE:GREGORIAN
METHOD:PUBLISH
X-WR-CALNAME:SCB Escalade
X-ORIGINAL-URL:https://escaladescb.fr
X-WR-CALDESC:Évènements pour SCB Escalade
REFRESH-INTERVAL;VALUE=DURATION:PT1H
X-Robots-Tag:noindex
X-PUBLISHED-TTL:PT1H
BEGIN:VTIMEZONE
TZID:Europe/Paris
BEGIN:DAYLIGHT
TZOFFSETFROM:+0100
TZOFFSETTO:+0200
TZNAME:CEST
DTSTART:20210328T010000
END:DAYLIGHT
BEGIN:STANDARD
TZOFFSETFROM:+0200
TZOFFSETTO:+0100
TZNAME:CET
DTSTART:20211031T010000
END:STANDARD
BEGIN:DAYLIGHT
TZOFFSETFROM:+0100
TZOFFSETTO:+0200
TZNAME:CEST
DTSTART:20220327T010000
END:DAYLIGHT
BEGIN:STANDARD
TZOFFSETFROM:+0200
TZOFFSETTO:+0100
TZNAME:CET
DTSTART:20221030T010000
END:STANDARD
BEGIN:DAYLIGHT
TZOFFSETFROM:+0100
TZOFFSETTO:+0200
TZNAME:CEST
DTSTART:20230326T010000
END:DAYLIGHT
BEGIN:STANDARD
TZOFFSETFROM:+0200
TZOFFSETTO:+0100
TZNAME:CET
DTSTART:20231029T010000
END:STANDARD
END:VTIMEZONE
BEGIN:VEVENT
DTSTART;TZID=Europe/Paris:20220502T203000
DTEND;TZID=Europe/Paris:20220502T223000
DTSTAMP:20260424T171115
CREATED:20220427T173111Z
LAST-MODIFIED:20220427T173111Z
UID:1311-1651523400-1651530600@escaladescb.fr
SUMMARY:Permanence (Beaucouzé)
DESCRIPTION:
URL:https://escaladescb.fr/event/permanence-beaucouze-54/
LOCATION:Complexe Jacques Aubineau\, salle Pierre de Coubertin\, 5 Bis Avenue de la Grange aux Belles\, Beaucouzé\, 49070\, France
CATEGORIES:Permanences
END:VEVENT
BEGIN:VEVENT
DTSTART;TZID=Europe/Paris:20220503T203000
DTEND;TZID=Europe/Paris:20220503T223000
DTSTAMP:20260424T171115
CREATED:20220427T173144Z
LAST-MODIFIED:20220427T173144Z
UID:1313-1651609800-1651617000@escaladescb.fr
SUMMARY:Permanence (Avrillé)
DESCRIPTION:
URL:https://escaladescb.fr/event/permanence-avrille-167/
LOCATION:Salle Marie Paradis\, Avenue de la Ronde\, Avrillé\, 49240\, France
CATEGORIES:Permanences
END:VEVENT
BEGIN:VEVENT
DTSTART;TZID=Europe/Paris:20220504T193000
DTEND;TZID=Europe/Paris:20220504T213000
DTSTAMP:20260424T171115
CREATED:20220427T173208Z
LAST-MODIFIED:20220427T173208Z
UID:1315-1651692600-1651699800@escaladescb.fr
SUMMARY:Permanence (Avrillé)
DESCRIPTION:
URL:https://escaladescb.fr/event/permanence-avrille-168/
LOCATION:Salle Marie Paradis\, Avenue de la Ronde\, Avrillé\, 49240\, France
CATEGORIES:Permanences
END:VEVENT
BEGIN:VEVENT
DTSTART;TZID=Europe/Paris:20220505T203000
DTEND;TZID=Europe/Paris:20220505T223000
DTSTAMP:20260424T171115
CREATED:20220427T173300Z
LAST-MODIFIED:20220427T173300Z
UID:1317-1651782600-1651789800@escaladescb.fr
SUMMARY:Permanence (Avrillé)
DESCRIPTION:
URL:https://escaladescb.fr/event/permanence-avrille-169/
LOCATION:Salle Marie Paradis\, Avenue de la Ronde\, Avrillé\, 49240\, France
CATEGORIES:Permanences
END:VEVENT
BEGIN:VEVENT
DTSTART;TZID=Europe/Paris:20220506T200000
DTEND;TZID=Europe/Paris:20220506T220000
DTSTAMP:20260424T171115
CREATED:20220427T173335Z
LAST-MODIFIED:20220427T173335Z
UID:1319-1651867200-1651874400@escaladescb.fr
SUMMARY:Permanence (Avrillé)
DESCRIPTION:
URL:https://escaladescb.fr/event/permanence-avrille-170/
LOCATION:Salle Marie Paradis\, Avenue de la Ronde\, Avrillé\, 49240\, France
CATEGORIES:Permanences
END:VEVENT
BEGIN:VEVENT
DTSTART;TZID=Europe/Paris:20220509T203000
DTEND;TZID=Europe/Paris:20220509T223000
DTSTAMP:20260424T171115
CREATED:20220427T173417Z
LAST-MODIFIED:20220427T173514Z
UID:1321-1652128200-1652135400@escaladescb.fr
SUMMARY:Permanence (Beaucouzé)
DESCRIPTION:
URL:https://escaladescb.fr/event/permanence-beaucouze-55/
LOCATION:Complexe Jacques Aubineau\, salle Pierre de Coubertin\, 5 Bis Avenue de la Grange aux Belles\, Beaucouzé\, 49070\, France
CATEGORIES:Permanences
END:VEVENT
BEGIN:VEVENT
DTSTART;TZID=Europe/Paris:20220516T203000
DTEND;TZID=Europe/Paris:20220516T223000
DTSTAMP:20260424T171115
CREATED:20220427T173455Z
LAST-MODIFIED:20220427T173455Z
UID:1323-1652733000-1652740200@escaladescb.fr
SUMMARY:Permanence (Beaucouzé)
DESCRIPTION:
URL:https://escaladescb.fr/event/permanence-beaucouze-56/
LOCATION:Complexe Jacques Aubineau\, salle Pierre de Coubertin\, 5 Bis Avenue de la Grange aux Belles\, Beaucouzé\, 49070\, France
CATEGORIES:Permanences
END:VEVENT
BEGIN:VEVENT
DTSTART;TZID=Europe/Paris:20220523T203000
DTEND;TZID=Europe/Paris:20220523T223000
DTSTAMP:20260424T171115
CREATED:20220427T173542Z
LAST-MODIFIED:20220427T173542Z
UID:1325-1653337800-1653345000@escaladescb.fr
SUMMARY:Permanence (Beaucouzé)
DESCRIPTION:
URL:https://escaladescb.fr/event/permanence-beaucouze-57/
LOCATION:Complexe Jacques Aubineau\, salle Pierre de Coubertin\, 5 Bis Avenue de la Grange aux Belles\, Beaucouzé\, 49070\, France
CATEGORIES:Permanences
END:VEVENT
BEGIN:VEVENT
DTSTART;TZID=Europe/Paris:20220524T203000
DTEND;TZID=Europe/Paris:20220524T223000
DTSTAMP:20260424T171115
CREATED:20220427T173640Z
LAST-MODIFIED:20220427T173640Z
UID:1327-1653424200-1653431400@escaladescb.fr
SUMMARY:Permanence (Avrillé)
DESCRIPTION:
URL:https://escaladescb.fr/event/permanence-avrille-171/
LOCATION:Salle Marie Paradis\, Avenue de la Ronde\, Avrillé\, 49240\, France
CATEGORIES:Permanences
END:VEVENT
BEGIN:VEVENT
DTSTART;TZID=Europe/Paris:20220525T193000
DTEND;TZID=Europe/Paris:20220525T213000
DTSTAMP:20260424T171115
CREATED:20220427T173705Z
LAST-MODIFIED:20220427T173705Z
UID:1329-1653507000-1653514200@escaladescb.fr
SUMMARY:Permanence (Avrillé)
DESCRIPTION:
URL:https://escaladescb.fr/event/permanence-avrille-172/
LOCATION:Salle Marie Paradis\, Avenue de la Ronde\, Avrillé\, 49240\, France
CATEGORIES:Permanences
END:VEVENT
BEGIN:VEVENT
DTSTART;TZID=Europe/Paris:20220530T203000
DTEND;TZID=Europe/Paris:20220530T223000
DTSTAMP:20260424T171115
CREATED:20220427T173747Z
LAST-MODIFIED:20220427T173747Z
UID:1331-1653942600-1653949800@escaladescb.fr
SUMMARY:Permanence (Beaucouzé)
DESCRIPTION:
URL:https://escaladescb.fr/event/permanence-beaucouze-58/
LOCATION:Complexe Jacques Aubineau\, salle Pierre de Coubertin\, 5 Bis Avenue de la Grange aux Belles\, Beaucouzé\, 49070\, France
CATEGORIES:Permanences
END:VEVENT
BEGIN:VEVENT
DTSTART;TZID=Europe/Paris:20220531T203000
DTEND;TZID=Europe/Paris:20220531T223000
DTSTAMP:20260424T171115
CREATED:20220427T173826Z
LAST-MODIFIED:20220427T173826Z
UID:1333-1654029000-1654036200@escaladescb.fr
SUMMARY:Permanence (Avrillé)
DESCRIPTION:
URL:https://escaladescb.fr/event/permanence-avrille-173/
LOCATION:Salle Marie Paradis\, Avenue de la Ronde\, Avrillé\, 49240\, France
CATEGORIES:Permanences
END:VEVENT
END:VCALENDAR