BEGIN:VCALENDAR
VERSION:2.0
PRODID:-//SCB Escalade - ECPv6.15.20//NONSGML v1.0//EN
CALSCALE:GREGORIAN
METHOD:PUBLISH
X-WR-CALNAME:SCB Escalade
X-ORIGINAL-URL:https://escaladescb.fr
X-WR-CALDESC:Évènements pour SCB Escalade
REFRESH-INTERVAL;VALUE=DURATION:PT1H
X-Robots-Tag:noindex
X-PUBLISHED-TTL:PT1H
BEGIN:VTIMEZONE
TZID:Europe/Paris
BEGIN:DAYLIGHT
TZOFFSETFROM:+0100
TZOFFSETTO:+0200
TZNAME:CEST
DTSTART:20210328T010000
END:DAYLIGHT
BEGIN:STANDARD
TZOFFSETFROM:+0200
TZOFFSETTO:+0100
TZNAME:CET
DTSTART:20211031T010000
END:STANDARD
BEGIN:DAYLIGHT
TZOFFSETFROM:+0100
TZOFFSETTO:+0200
TZNAME:CEST
DTSTART:20220327T010000
END:DAYLIGHT
BEGIN:STANDARD
TZOFFSETFROM:+0200
TZOFFSETTO:+0100
TZNAME:CET
DTSTART:20221030T010000
END:STANDARD
BEGIN:DAYLIGHT
TZOFFSETFROM:+0100
TZOFFSETTO:+0200
TZNAME:CEST
DTSTART:20230326T010000
END:DAYLIGHT
BEGIN:STANDARD
TZOFFSETFROM:+0200
TZOFFSETTO:+0100
TZNAME:CET
DTSTART:20231029T010000
END:STANDARD
END:VTIMEZONE
BEGIN:VEVENT
DTSTART;TZID=Europe/Paris:20220301T203000
DTEND;TZID=Europe/Paris:20220301T223000
DTSTAMP:20260424T200939
CREATED:20220223T182816Z
LAST-MODIFIED:20220223T182816Z
UID:1219-1646166600-1646173800@escaladescb.fr
SUMMARY:Permanence (Avrillé)
DESCRIPTION:
URL:https://escaladescb.fr/event/permanence-avrille-138/
LOCATION:Salle Marie Paradis\, Avenue de la Ronde\, Avrillé\, 49240\, France
CATEGORIES:Permanences
END:VEVENT
BEGIN:VEVENT
DTSTART;TZID=Europe/Paris:20220302T193000
DTEND;TZID=Europe/Paris:20220302T213000
DTSTAMP:20260424T200939
CREATED:20220223T182843Z
LAST-MODIFIED:20220223T183019Z
UID:1221-1646249400-1646256600@escaladescb.fr
SUMMARY:Permanence (Avrillé)
DESCRIPTION:
URL:https://escaladescb.fr/event/permanence-avrille-139/
LOCATION:Salle Marie Paradis\, Avenue de la Ronde\, Avrillé\, 49240\, France
CATEGORIES:Permanences
END:VEVENT
BEGIN:VEVENT
DTSTART;TZID=Europe/Paris:20220303T203000
DTEND;TZID=Europe/Paris:20220303T223000
DTSTAMP:20260424T200939
CREATED:20220223T183051Z
LAST-MODIFIED:20220223T183051Z
UID:1223-1646339400-1646346600@escaladescb.fr
SUMMARY:Permanence (Avrillé)
DESCRIPTION:
URL:https://escaladescb.fr/event/permanence-avrille-140/
LOCATION:Salle Marie Paradis\, Avenue de la Ronde\, Avrillé\, 49240\, France
CATEGORIES:Permanences
END:VEVENT
BEGIN:VEVENT
DTSTART;TZID=Europe/Paris:20220308T203000
DTEND;TZID=Europe/Paris:20220308T223000
DTSTAMP:20260424T200939
CREATED:20220307T180055Z
LAST-MODIFIED:20220307T180055Z
UID:1226-1646771400-1646778600@escaladescb.fr
SUMMARY:Permanence (Avrillé)
DESCRIPTION:
URL:https://escaladescb.fr/event/permanence-avrille-141/
LOCATION:Salle Marie Paradis\, Avenue de la Ronde\, Avrillé\, 49240\, France
CATEGORIES:Permanences
END:VEVENT
BEGIN:VEVENT
DTSTART;TZID=Europe/Paris:20220309T193000
DTEND;TZID=Europe/Paris:20220309T213000
DTSTAMP:20260424T200939
CREATED:20220307T180138Z
LAST-MODIFIED:20220307T180138Z
UID:1228-1646854200-1646861400@escaladescb.fr
SUMMARY:Permanence (Avrillé)
DESCRIPTION:
URL:https://escaladescb.fr/event/permanence-avrille-142/
LOCATION:Salle Marie Paradis\, Avenue de la Ronde\, Avrillé\, 49240\, France
CATEGORIES:Permanences
END:VEVENT
BEGIN:VEVENT
DTSTART;TZID=Europe/Paris:20220310T193000
DTEND;TZID=Europe/Paris:20220310T210000
DTSTAMP:20260424T200939
CREATED:20220307T180254Z
LAST-MODIFIED:20220307T180254Z
UID:1232-1646940600-1646946000@escaladescb.fr
SUMMARY:Permanence (Beaucouzé)
DESCRIPTION:
URL:https://escaladescb.fr/event/permanence-beaucouze-47/
LOCATION:Complexe Jacques Aubineau\, salle Pierre de Coubertin\, 5 Bis Avenue de la Grange aux Belles\, Beaucouzé\, 49070\, France
CATEGORIES:Permanences
END:VEVENT
BEGIN:VEVENT
DTSTART;TZID=Europe/Paris:20220310T203000
DTEND;TZID=Europe/Paris:20220310T223000
DTSTAMP:20260424T200939
CREATED:20220307T180207Z
LAST-MODIFIED:20220307T180207Z
UID:1230-1646944200-1646951400@escaladescb.fr
SUMMARY:Permanence (Avrillé)
DESCRIPTION:
URL:https://escaladescb.fr/event/permanence-avrille-143/
LOCATION:Salle Marie Paradis\, Avenue de la Ronde\, Avrillé\, 49240\, France
CATEGORIES:Permanences
END:VEVENT
BEGIN:VEVENT
DTSTART;TZID=Europe/Paris:20220312T143000
DTEND;TZID=Europe/Paris:20220312T173000
DTSTAMP:20260424T200939
CREATED:20220307T180316Z
LAST-MODIFIED:20220307T180316Z
UID:1234-1647095400-1647106200@escaladescb.fr
SUMMARY:Permanence (Avrillé)
DESCRIPTION:
URL:https://escaladescb.fr/event/permanence-avrille-144/
LOCATION:Salle Marie Paradis\, Avenue de la Ronde\, Avrillé\, 49240\, France
CATEGORIES:Permanences
END:VEVENT
BEGIN:VEVENT
DTSTART;TZID=Europe/Paris:20220314T203000
DTEND;TZID=Europe/Paris:20220314T223000
DTSTAMP:20260424T200939
CREATED:20220307T180510Z
LAST-MODIFIED:20220307T180510Z
UID:1236-1647289800-1647297000@escaladescb.fr
SUMMARY:Permanence (Beaucouzé)
DESCRIPTION:
URL:https://escaladescb.fr/event/permanence-beaucouze-48/
LOCATION:Complexe Jacques Aubineau\, salle Pierre de Coubertin\, 5 Bis Avenue de la Grange aux Belles\, Beaucouzé\, 49070\, France
CATEGORIES:Permanences
END:VEVENT
BEGIN:VEVENT
DTSTART;TZID=Europe/Paris:20220315T203000
DTEND;TZID=Europe/Paris:20220315T223000
DTSTAMP:20260424T200939
CREATED:20220307T180727Z
LAST-MODIFIED:20220307T180727Z
UID:1238-1647376200-1647383400@escaladescb.fr
SUMMARY:Permanence (Avrillé)
DESCRIPTION:
URL:https://escaladescb.fr/event/permanence-avrille-145/
LOCATION:Salle Marie Paradis\, Avenue de la Ronde\, Avrillé\, 49240\, France
CATEGORIES:Permanences
END:VEVENT
BEGIN:VEVENT
DTSTART;TZID=Europe/Paris:20220316T193000
DTEND;TZID=Europe/Paris:20220316T213000
DTSTAMP:20260424T200939
CREATED:20220307T180758Z
LAST-MODIFIED:20220307T180758Z
UID:1240-1647459000-1647466200@escaladescb.fr
SUMMARY:Permanence (Avrillé)
DESCRIPTION:
URL:https://escaladescb.fr/event/permanence-avrille-146/
LOCATION:Salle Marie Paradis\, Avenue de la Ronde\, Avrillé\, 49240\, France
CATEGORIES:Permanences
END:VEVENT
BEGIN:VEVENT
DTSTART;TZID=Europe/Paris:20220317T203000
DTEND;TZID=Europe/Paris:20220317T223000
DTSTAMP:20260424T200939
CREATED:20220307T180959Z
LAST-MODIFIED:20220307T180959Z
UID:1242-1647549000-1647556200@escaladescb.fr
SUMMARY:Permanence (Avrillé)
DESCRIPTION:
URL:https://escaladescb.fr/event/permanence-avrille-147/
LOCATION:Salle Marie Paradis\, Avenue de la Ronde\, Avrillé\, 49240\, France
CATEGORIES:Permanences
END:VEVENT
BEGIN:VEVENT
DTSTART;TZID=Europe/Paris:20220318T200000
DTEND;TZID=Europe/Paris:20220318T220000
DTSTAMP:20260424T200939
CREATED:20220307T181025Z
LAST-MODIFIED:20220307T181025Z
UID:1244-1647633600-1647640800@escaladescb.fr
SUMMARY:Permanence (Avrillé)
DESCRIPTION:
URL:https://escaladescb.fr/event/permanence-avrille-148/
LOCATION:Salle Marie Paradis\, Avenue de la Ronde\, Avrillé\, 49240\, France
CATEGORIES:Permanences
END:VEVENT
BEGIN:VEVENT
DTSTART;TZID=Europe/Paris:20220321T203000
DTEND;TZID=Europe/Paris:20220321T223000
DTSTAMP:20260424T200939
CREATED:20220319T190248Z
LAST-MODIFIED:20220319T190248Z
UID:1263-1647894600-1647901800@escaladescb.fr
SUMMARY:Permanence (Beaucouzé)
DESCRIPTION:
URL:https://escaladescb.fr/event/permanence-beaucouze-49/
LOCATION:Salle Marie Paradis\, Avenue de la Ronde\, Avrillé\, 49240\, France
CATEGORIES:Permanences
END:VEVENT
BEGIN:VEVENT
DTSTART;TZID=Europe/Paris:20220322T203000
DTEND;TZID=Europe/Paris:20220322T223000
DTSTAMP:20260424T200939
CREATED:20220307T181116Z
LAST-MODIFIED:20220307T181116Z
UID:1246-1647981000-1647988200@escaladescb.fr
SUMMARY:Permanence (Avrillé)
DESCRIPTION:
URL:https://escaladescb.fr/event/permanence-avrille-149/
LOCATION:Salle Marie Paradis\, Avenue de la Ronde\, Avrillé\, 49240\, France
CATEGORIES:Permanences
END:VEVENT
BEGIN:VEVENT
DTSTART;TZID=Europe/Paris:20220324T203000
DTEND;TZID=Europe/Paris:20220324T223000
DTSTAMP:20260424T200939
CREATED:20220307T181248Z
LAST-MODIFIED:20220307T181248Z
UID:1250-1648153800-1648161000@escaladescb.fr
SUMMARY:Permanence (Avrillé)
DESCRIPTION:
URL:https://escaladescb.fr/event/permanence-avrille-150/
LOCATION:Salle Marie Paradis\, Avenue de la Ronde\, Avrillé\, 49240\, France
CATEGORIES:Permanences
END:VEVENT
BEGIN:VEVENT
DTSTART;TZID=Europe/Paris:20220328T203000
DTEND;TZID=Europe/Paris:20220328T223000
DTSTAMP:20260424T200939
CREATED:20220307T181405Z
LAST-MODIFIED:20220307T181405Z
UID:1252-1648499400-1648506600@escaladescb.fr
SUMMARY:Permanence (Beaucouzé)
DESCRIPTION:
URL:https://escaladescb.fr/event/permanence-beaucouze-50/
LOCATION:Complexe Jacques Aubineau\, salle Pierre de Coubertin\, 5 Bis Avenue de la Grange aux Belles\, Beaucouzé\, 49070\, France
CATEGORIES:Permanences
END:VEVENT
BEGIN:VEVENT
DTSTART;TZID=Europe/Paris:20220329T203000
DTEND;TZID=Europe/Paris:20220329T223000
DTSTAMP:20260424T200939
CREATED:20220307T181430Z
LAST-MODIFIED:20220307T181430Z
UID:1254-1648585800-1648593000@escaladescb.fr
SUMMARY:Permanence (Avrillé)
DESCRIPTION:
URL:https://escaladescb.fr/event/permanence-avrille-151/
LOCATION:Salle Marie Paradis\, Avenue de la Ronde\, Avrillé\, 49240\, France
CATEGORIES:Permanences
END:VEVENT
BEGIN:VEVENT
DTSTART;TZID=Europe/Paris:20220330T193000
DTEND;TZID=Europe/Paris:20220330T213000
DTSTAMP:20260424T200939
CREATED:20220307T181528Z
LAST-MODIFIED:20220307T181528Z
UID:1256-1648668600-1648675800@escaladescb.fr
SUMMARY:Permanence (Avrillé)
DESCRIPTION:
URL:https://escaladescb.fr/event/permanence-avrille-152/
LOCATION:Salle Marie Paradis\, Avenue de la Ronde\, Avrillé\, 49240\, France
CATEGORIES:Permanences
END:VEVENT
END:VCALENDAR