BEGIN:VCALENDAR
VERSION:2.0
PRODID:-//SCB Escalade - ECPv6.15.20//NONSGML v1.0//EN
CALSCALE:GREGORIAN
METHOD:PUBLISH
X-ORIGINAL-URL:https://escaladescb.fr
X-WR-CALDESC:Évènements pour SCB Escalade
REFRESH-INTERVAL;VALUE=DURATION:PT1H
X-Robots-Tag:noindex
X-PUBLISHED-TTL:PT1H
BEGIN:VTIMEZONE
TZID:Europe/Paris
BEGIN:DAYLIGHT
TZOFFSETFROM:+0100
TZOFFSETTO:+0200
TZNAME:CEST
DTSTART:20210328T010000
END:DAYLIGHT
BEGIN:STANDARD
TZOFFSETFROM:+0200
TZOFFSETTO:+0100
TZNAME:CET
DTSTART:20211031T010000
END:STANDARD
BEGIN:DAYLIGHT
TZOFFSETFROM:+0100
TZOFFSETTO:+0200
TZNAME:CEST
DTSTART:20220327T010000
END:DAYLIGHT
BEGIN:STANDARD
TZOFFSETFROM:+0200
TZOFFSETTO:+0100
TZNAME:CET
DTSTART:20221030T010000
END:STANDARD
BEGIN:DAYLIGHT
TZOFFSETFROM:+0100
TZOFFSETTO:+0200
TZNAME:CEST
DTSTART:20230326T010000
END:DAYLIGHT
BEGIN:STANDARD
TZOFFSETFROM:+0200
TZOFFSETTO:+0100
TZNAME:CET
DTSTART:20231029T010000
END:STANDARD
END:VTIMEZONE
BEGIN:VEVENT
DTSTART;TZID=Europe/Paris:20220201T203000
DTEND;TZID=Europe/Paris:20220201T223000
DTSTAMP:20260424T212922
CREATED:20220131T125903Z
LAST-MODIFIED:20220131T125903Z
UID:1180-1643747400-1643754600@escaladescb.fr
SUMMARY:Permanence (Avrillé)
DESCRIPTION:
URL:https://escaladescb.fr/event/permanence-avrille-125/
LOCATION:Salle Marie Paradis\, Avenue de la Ronde\, Avrillé\, 49240\, France
CATEGORIES:Permanences
END:VEVENT
BEGIN:VEVENT
DTSTART;TZID=Europe/Paris:20220202T193000
DTEND;TZID=Europe/Paris:20220202T213000
DTSTAMP:20260424T212922
CREATED:20220131T130004Z
LAST-MODIFIED:20220131T130004Z
UID:1182-1643830200-1643837400@escaladescb.fr
SUMMARY:Permanence (Avrillé)
DESCRIPTION:
URL:https://escaladescb.fr/event/permanence-avrille-126/
LOCATION:Salle Marie Paradis\, Avenue de la Ronde\, Avrillé\, 49240\, France
CATEGORIES:Permanences
END:VEVENT
BEGIN:VEVENT
DTSTART;TZID=Europe/Paris:20220203T193000
DTEND;TZID=Europe/Paris:20220203T210000
DTSTAMP:20260424T212922
CREATED:20220131T130054Z
LAST-MODIFIED:20220131T130054Z
UID:1184-1643916600-1643922000@escaladescb.fr
SUMMARY:Permanence (Beaucouzé)
DESCRIPTION:
URL:https://escaladescb.fr/event/permanence-beaucouze-44/
LOCATION:Complexe Jacques Aubineau\, salle Pierre de Coubertin\, 5 Bis Avenue de la Grange aux Belles\, Beaucouzé\, 49070\, France
CATEGORIES:Permanences
END:VEVENT
BEGIN:VEVENT
DTSTART;TZID=Europe/Paris:20220203T203000
DTEND;TZID=Europe/Paris:20220203T223000
DTSTAMP:20260424T212922
CREATED:20220131T130116Z
LAST-MODIFIED:20220131T130116Z
UID:1186-1643920200-1643927400@escaladescb.fr
SUMMARY:Permanence (Avrillé)
DESCRIPTION:
URL:https://escaladescb.fr/event/permanence-avrille-127/
LOCATION:Salle Marie Paradis\, Avenue de la Ronde\, Avrillé\, 49240\, France
CATEGORIES:Permanences
END:VEVENT
BEGIN:VEVENT
DTSTART;TZID=Europe/Paris:20220207T193000
DTEND;TZID=Europe/Paris:20220207T223000
DTSTAMP:20260424T212922
CREATED:20220131T130624Z
LAST-MODIFIED:20220131T130624Z
UID:1188-1644262200-1644273000@escaladescb.fr
SUMMARY:Permanence (Avrillé)
DESCRIPTION:
URL:https://escaladescb.fr/event/permanence-avrille-128/
LOCATION:Salle Marie Paradis\, Avenue de la Ronde\, Avrillé\, 49240\, France
CATEGORIES:Permanences
END:VEVENT
BEGIN:VEVENT
DTSTART;TZID=Europe/Paris:20220208T193000
DTEND;TZID=Europe/Paris:20220208T223000
DTSTAMP:20260424T212922
CREATED:20220131T130758Z
LAST-MODIFIED:20220208T085411Z
UID:1190-1644348600-1644359400@escaladescb.fr
SUMMARY:Permanence (Avrillé)
DESCRIPTION:
URL:https://escaladescb.fr/event/permanence-avrille-129/
LOCATION:Salle Marie Paradis\, Avenue de la Ronde\, Avrillé\, 49240\, France
CATEGORIES:Permanences
END:VEVENT
BEGIN:VEVENT
DTSTART;TZID=Europe/Paris:20220209T193000
DTEND;TZID=Europe/Paris:20220209T223000
DTSTAMP:20260424T212922
CREATED:20220131T130828Z
LAST-MODIFIED:20220131T130828Z
UID:1192-1644435000-1644445800@escaladescb.fr
SUMMARY:Permanence (Avrillé)
DESCRIPTION:
URL:https://escaladescb.fr/event/permanence-avrille-130/
LOCATION:Salle Marie Paradis\, Avenue de la Ronde\, Avrillé\, 49240\, France
CATEGORIES:Permanences
END:VEVENT
BEGIN:VEVENT
DTSTART;TZID=Europe/Paris:20220210T193000
DTEND;TZID=Europe/Paris:20220210T223000
DTSTAMP:20260424T212922
CREATED:20220131T130901Z
LAST-MODIFIED:20220131T130901Z
UID:1194-1644521400-1644532200@escaladescb.fr
SUMMARY:Permanence (Avrillé)
DESCRIPTION:
URL:https://escaladescb.fr/event/permanence-avrille-131/
LOCATION:Salle Marie Paradis\, Avenue de la Ronde\, Avrillé\, 49240\, France
CATEGORIES:Permanences
END:VEVENT
BEGIN:VEVENT
DTSTART;TZID=Europe/Paris:20220216T193000
DTEND;TZID=Europe/Paris:20220216T223000
DTSTAMP:20260424T212922
CREATED:20220131T131008Z
LAST-MODIFIED:20220131T131008Z
UID:1196-1645039800-1645050600@escaladescb.fr
SUMMARY:Permanence (Avrillé)
DESCRIPTION:
URL:https://escaladescb.fr/event/permanence-avrille-132/
LOCATION:Salle Marie Paradis\, Avenue de la Ronde\, Avrillé\, 49240\, France
CATEGORIES:Permanences
END:VEVENT
BEGIN:VEVENT
DTSTART;TZID=Europe/Paris:20220217T193000
DTEND;TZID=Europe/Paris:20220217T223000
DTSTAMP:20260424T212922
CREATED:20220131T131058Z
LAST-MODIFIED:20220131T131058Z
UID:1198-1645126200-1645137000@escaladescb.fr
SUMMARY:Permanence (Avrillé)
DESCRIPTION:
URL:https://escaladescb.fr/event/permanence-avrille-133/
LOCATION:Salle Marie Paradis\, Avenue de la Ronde\, Avrillé\, 49240\, France
CATEGORIES:Permanences
END:VEVENT
BEGIN:VEVENT
DTSTART;TZID=Europe/Paris:20220221T203000
DTEND;TZID=Europe/Paris:20220221T223000
DTSTAMP:20260424T212922
CREATED:20220131T131132Z
LAST-MODIFIED:20220131T131132Z
UID:1200-1645475400-1645482600@escaladescb.fr
SUMMARY:Permanence (Beaucouzé)
DESCRIPTION:
URL:https://escaladescb.fr/event/permanence-beaucouze-45/
LOCATION:Complexe Jacques Aubineau\, salle Pierre de Coubertin\, 5 Bis Avenue de la Grange aux Belles\, Beaucouzé\, 49070\, France
CATEGORIES:Permanences
END:VEVENT
BEGIN:VEVENT
DTSTART;TZID=Europe/Paris:20220222T203000
DTEND;TZID=Europe/Paris:20220222T223000
DTSTAMP:20260424T212922
CREATED:20220131T131442Z
LAST-MODIFIED:20220131T131442Z
UID:1202-1645561800-1645569000@escaladescb.fr
SUMMARY:Permanence (Avrillé)
DESCRIPTION:
URL:https://escaladescb.fr/event/permanence-avrille-134/
LOCATION:Salle Marie Paradis\, Avenue de la Ronde\, Avrillé\, 49240\, France
CATEGORIES:Permanences
END:VEVENT
BEGIN:VEVENT
DTSTART;TZID=Europe/Paris:20220223T193000
DTEND;TZID=Europe/Paris:20220223T213000
DTSTAMP:20260424T212922
CREATED:20220131T131513Z
LAST-MODIFIED:20220131T131513Z
UID:1204-1645644600-1645651800@escaladescb.fr
SUMMARY:Permanence (Avrillé)
DESCRIPTION:
URL:https://escaladescb.fr/event/permanence-avrille-135/
LOCATION:Salle Marie Paradis\, Avenue de la Ronde\, Avrillé\, 49240\, France
CATEGORIES:Permanences
END:VEVENT
BEGIN:VEVENT
DTSTART;TZID=Europe/Paris:20220224T193000
DTEND;TZID=Europe/Paris:20220224T210000
DTSTAMP:20260424T212922
CREATED:20220131T131756Z
LAST-MODIFIED:20220131T131756Z
UID:1206-1645731000-1645736400@escaladescb.fr
SUMMARY:Permanence (Beaucouzé)
DESCRIPTION:
URL:https://escaladescb.fr/event/permanence-beaucouze-46/
LOCATION:Complexe Jacques Aubineau\, salle Pierre de Coubertin\, 5 Bis Avenue de la Grange aux Belles\, Beaucouzé\, 49070\, France
CATEGORIES:Permanences
END:VEVENT
BEGIN:VEVENT
DTSTART;TZID=Europe/Paris:20220224T203000
DTEND;TZID=Europe/Paris:20220224T223000
DTSTAMP:20260424T212922
CREATED:20220131T131920Z
LAST-MODIFIED:20220131T131920Z
UID:1208-1645734600-1645741800@escaladescb.fr
SUMMARY:Permanence (Avrillé)
DESCRIPTION:
URL:https://escaladescb.fr/event/permanence-avrille-136/
LOCATION:Salle Marie Paradis\, Avenue de la Ronde\, Avrillé\, 49240\, France
CATEGORIES:Permanences
END:VEVENT
BEGIN:VEVENT
DTSTART;TZID=Europe/Paris:20220226T143000
DTEND;TZID=Europe/Paris:20220226T173000
DTSTAMP:20260424T212922
CREATED:20220131T131944Z
LAST-MODIFIED:20220131T131944Z
UID:1210-1645885800-1645896600@escaladescb.fr
SUMMARY:Permanence (Avrillé)
DESCRIPTION:
URL:https://escaladescb.fr/event/permanence-avrille-137/
LOCATION:Salle Marie Paradis\, Avenue de la Ronde\, Avrillé\, 49240\, France
CATEGORIES:Permanences
END:VEVENT
END:VCALENDAR