BEGIN:VCALENDAR
VERSION:2.0
PRODID:-//SCB Escalade - ECPv6.15.20//NONSGML v1.0//EN
CALSCALE:GREGORIAN
METHOD:PUBLISH
X-WR-CALNAME:SCB Escalade
X-ORIGINAL-URL:https://escaladescb.fr
X-WR-CALDESC:Évènements pour SCB Escalade
REFRESH-INTERVAL;VALUE=DURATION:PT1H
X-Robots-Tag:noindex
X-PUBLISHED-TTL:PT1H
BEGIN:VTIMEZONE
TZID:Europe/Paris
BEGIN:DAYLIGHT
TZOFFSETFROM:+0100
TZOFFSETTO:+0200
TZNAME:CEST
DTSTART:20200329T010000
END:DAYLIGHT
BEGIN:STANDARD
TZOFFSETFROM:+0200
TZOFFSETTO:+0100
TZNAME:CET
DTSTART:20201025T010000
END:STANDARD
BEGIN:DAYLIGHT
TZOFFSETFROM:+0100
TZOFFSETTO:+0200
TZNAME:CEST
DTSTART:20210328T010000
END:DAYLIGHT
BEGIN:STANDARD
TZOFFSETFROM:+0200
TZOFFSETTO:+0100
TZNAME:CET
DTSTART:20211031T010000
END:STANDARD
BEGIN:DAYLIGHT
TZOFFSETFROM:+0100
TZOFFSETTO:+0200
TZNAME:CEST
DTSTART:20220327T010000
END:DAYLIGHT
BEGIN:STANDARD
TZOFFSETFROM:+0200
TZOFFSETTO:+0100
TZNAME:CET
DTSTART:20221030T010000
END:STANDARD
END:VTIMEZONE
BEGIN:VEVENT
DTSTART;TZID=Europe/Paris:20211101T193000
DTEND;TZID=Europe/Paris:20211101T223000
DTSTAMP:20260425T030605
CREATED:20211021T203946Z
LAST-MODIFIED:20211021T203946Z
UID:1038-1635795000-1635805800@escaladescb.fr
SUMMARY:Permanence (Avrillé)
DESCRIPTION:
URL:https://escaladescb.fr/event/permanence-avrille-78/
LOCATION:Salle Marie Paradis\, Avenue de la Ronde\, Avrillé\, 49240\, France
CATEGORIES:Permanences
END:VEVENT
BEGIN:VEVENT
DTSTART;TZID=Europe/Paris:20211102T193000
DTEND;TZID=Europe/Paris:20211102T223000
DTSTAMP:20260425T030605
CREATED:20211021T204111Z
LAST-MODIFIED:20211021T204111Z
UID:1040-1635881400-1635892200@escaladescb.fr
SUMMARY:Permanence (Avrillé)
DESCRIPTION:
URL:https://escaladescb.fr/event/permanence-avrille-79/
LOCATION:Salle Marie Paradis\, Avenue de la Ronde\, Avrillé\, 49240\, France
CATEGORIES:Permanences
END:VEVENT
BEGIN:VEVENT
DTSTART;TZID=Europe/Paris:20211103T193000
DTEND;TZID=Europe/Paris:20211103T223000
DTSTAMP:20260425T030605
CREATED:20211021T204254Z
LAST-MODIFIED:20211021T204254Z
UID:1042-1635967800-1635978600@escaladescb.fr
SUMMARY:Permanence (Avrillé)
DESCRIPTION:
URL:https://escaladescb.fr/event/permanence-avrille-80/
LOCATION:Salle Marie Paradis\, Avenue de la Ronde\, Avrillé\, 49240\, France
CATEGORIES:Permanences
END:VEVENT
BEGIN:VEVENT
DTSTART;TZID=Europe/Paris:20211104T193000
DTEND;TZID=Europe/Paris:20211104T223000
DTSTAMP:20260425T030605
CREATED:20211021T204347Z
LAST-MODIFIED:20211021T204347Z
UID:1044-1636054200-1636065000@escaladescb.fr
SUMMARY:Permanence (Beaucouzé)
DESCRIPTION:
URL:https://escaladescb.fr/event/permanence-beaucouze-30/
LOCATION:Complexe Jacques Aubineau\, salle Pierre de Coubertin\, 5 Bis Avenue de la Grange aux Belles\, Beaucouzé\, 49070\, France
CATEGORIES:Permanences
END:VEVENT
BEGIN:VEVENT
DTSTART;TZID=Europe/Paris:20211108T203000
DTEND;TZID=Europe/Paris:20211108T223000
DTSTAMP:20260425T030605
CREATED:20211106T072828Z
LAST-MODIFIED:20211106T072828Z
UID:1047-1636403400-1636410600@escaladescb.fr
SUMMARY:Permanence (Beaucouzé)
DESCRIPTION:
URL:https://escaladescb.fr/event/permanence-beaucouze-31/
LOCATION:Complexe Jacques Aubineau\, salle Pierre de Coubertin\, 5 Bis Avenue de la Grange aux Belles\, Beaucouzé\, 49070\, France
CATEGORIES:Permanences
END:VEVENT
BEGIN:VEVENT
DTSTART;TZID=Europe/Paris:20211109T203000
DTEND;TZID=Europe/Paris:20211109T223000
DTSTAMP:20260425T030605
CREATED:20211106T073253Z
LAST-MODIFIED:20211106T073253Z
UID:1049-1636489800-1636497000@escaladescb.fr
SUMMARY:Permanence (Avrillé)
DESCRIPTION:
URL:https://escaladescb.fr/event/permanence-avrille-81/
LOCATION:Salle Marie Paradis\, Avenue de la Ronde\, Avrillé\, 49240\, France
CATEGORIES:Permanences
END:VEVENT
BEGIN:VEVENT
DTSTART;TZID=Europe/Paris:20211110T193000
DTEND;TZID=Europe/Paris:20211110T213000
DTSTAMP:20260425T030605
CREATED:20211106T073342Z
LAST-MODIFIED:20211106T073342Z
UID:1051-1636572600-1636579800@escaladescb.fr
SUMMARY:Permanence (Avrillé)
DESCRIPTION:
URL:https://escaladescb.fr/event/permanence-avrille-82/
LOCATION:Salle Marie Paradis\, Avenue de la Ronde\, Avrillé\, 49240\, France
CATEGORIES:Permanences
END:VEVENT
BEGIN:VEVENT
DTSTART;TZID=Europe/Paris:20211111T193000
DTEND;TZID=Europe/Paris:20211111T210000
DTSTAMP:20260425T030605
CREATED:20211106T073451Z
LAST-MODIFIED:20211106T073451Z
UID:1053-1636659000-1636664400@escaladescb.fr
SUMMARY:Permanence (Beaucouzé)
DESCRIPTION:
URL:https://escaladescb.fr/event/permanence-beaucouze-32/
LOCATION:Complexe Jacques Aubineau\, salle Pierre de Coubertin\, 5 Bis Avenue de la Grange aux Belles\, Beaucouzé\, 49070\, France
CATEGORIES:Permanences
END:VEVENT
BEGIN:VEVENT
DTSTART;TZID=Europe/Paris:20211112T200000
DTEND;TZID=Europe/Paris:20211112T220000
DTSTAMP:20260425T030605
CREATED:20211106T073528Z
LAST-MODIFIED:20211106T073528Z
UID:1055-1636747200-1636754400@escaladescb.fr
SUMMARY:Permanence (Avrillé)
DESCRIPTION:
URL:https://escaladescb.fr/event/permanence-avrille-83/
LOCATION:Salle Marie Paradis\, Avenue de la Ronde\, Avrillé\, 49240\, France
CATEGORIES:Permanences
END:VEVENT
BEGIN:VEVENT
DTSTART;TZID=Europe/Paris:20211113T143000
DTEND;TZID=Europe/Paris:20211113T173000
DTSTAMP:20260425T030605
CREATED:20211106T073559Z
LAST-MODIFIED:20211106T073559Z
UID:1057-1636813800-1636824600@escaladescb.fr
SUMMARY:Permanence (Avrillé)
DESCRIPTION:
URL:https://escaladescb.fr/event/permanence-avrille-84/
LOCATION:Salle Marie Paradis\, Avenue de la Ronde\, Avrillé\, 49240\, France
CATEGORIES:Permanences
END:VEVENT
BEGIN:VEVENT
DTSTART;TZID=Europe/Paris:20211115T203000
DTEND;TZID=Europe/Paris:20211115T223000
DTSTAMP:20260425T030605
CREATED:20211106T073654Z
LAST-MODIFIED:20211106T073654Z
UID:1059-1637008200-1637015400@escaladescb.fr
SUMMARY:Permanence (Beaucouzé)
DESCRIPTION:
URL:https://escaladescb.fr/event/permanence-beaucouze-33/
LOCATION:Complexe Jacques Aubineau\, salle Pierre de Coubertin\, 5 Bis Avenue de la Grange aux Belles\, Beaucouzé\, 49070\, France
CATEGORIES:Permanences
END:VEVENT
BEGIN:VEVENT
DTSTART;TZID=Europe/Paris:20211116T203000
DTEND;TZID=Europe/Paris:20211116T223000
DTSTAMP:20260425T030605
CREATED:20211106T073730Z
LAST-MODIFIED:20211106T073730Z
UID:1061-1637094600-1637101800@escaladescb.fr
SUMMARY:Permanence (Avrillé)
DESCRIPTION:
URL:https://escaladescb.fr/event/permanence-avrille-85/
LOCATION:Salle Marie Paradis\, Avenue de la Ronde\, Avrillé\, 49240\, France
CATEGORIES:Permanences
END:VEVENT
BEGIN:VEVENT
DTSTART;TZID=Europe/Paris:20211117T193000
DTEND;TZID=Europe/Paris:20211117T213000
DTSTAMP:20260425T030605
CREATED:20211106T073947Z
LAST-MODIFIED:20211106T073947Z
UID:1063-1637177400-1637184600@escaladescb.fr
SUMMARY:Permanence (Avrillé)
DESCRIPTION:
URL:https://escaladescb.fr/event/permanence-avrille-86/
LOCATION:Salle Marie Paradis\, Avenue de la Ronde\, Avrillé\, 49240\, France
CATEGORIES:Permanences
END:VEVENT
BEGIN:VEVENT
DTSTART;TZID=Europe/Paris:20211118T203000
DTEND;TZID=Europe/Paris:20211118T223000
DTSTAMP:20260425T030605
CREATED:20211106T074017Z
LAST-MODIFIED:20211106T074017Z
UID:1065-1637267400-1637274600@escaladescb.fr
SUMMARY:Permanence (Avrillé)
DESCRIPTION:
URL:https://escaladescb.fr/event/permanence-avrille-87/
LOCATION:Salle Marie Paradis\, Avenue de la Ronde\, Avrillé\, 49240\, France
CATEGORIES:Permanences
END:VEVENT
BEGIN:VEVENT
DTSTART;TZID=Europe/Paris:20211120T143000
DTEND;TZID=Europe/Paris:20211120T173000
DTSTAMP:20260425T030605
CREATED:20211106T074122Z
LAST-MODIFIED:20211106T074122Z
UID:1067-1637418600-1637429400@escaladescb.fr
SUMMARY:Permanence (Avrillé)
DESCRIPTION:
URL:https://escaladescb.fr/event/permanence-avrille-88/
LOCATION:Salle Marie Paradis\, Avenue de la Ronde\, Avrillé\, 49240\, France
CATEGORIES:Permanences
END:VEVENT
BEGIN:VEVENT
DTSTART;TZID=Europe/Paris:20211122T203000
DTEND;TZID=Europe/Paris:20211122T223000
DTSTAMP:20260425T030605
CREATED:20211106T074217Z
LAST-MODIFIED:20211106T074320Z
UID:1069-1637613000-1637620200@escaladescb.fr
SUMMARY:Permanence (Beaucouzé)
DESCRIPTION:
URL:https://escaladescb.fr/event/permanence-beaucouze-34/
LOCATION:Complexe Jacques Aubineau\, salle Pierre de Coubertin\, 5 Bis Avenue de la Grange aux Belles\, Beaucouzé\, 49070\, France
CATEGORIES:Permanences
END:VEVENT
BEGIN:VEVENT
DTSTART;TZID=Europe/Paris:20211123T203000
DTEND;TZID=Europe/Paris:20211123T223000
DTSTAMP:20260425T030605
CREATED:20211106T074245Z
LAST-MODIFIED:20211106T074303Z
UID:1071-1637699400-1637706600@escaladescb.fr
SUMMARY:Permanence (Avrillé)
DESCRIPTION:
URL:https://escaladescb.fr/event/permanence-avrille-89/
LOCATION:Salle Marie Paradis\, Avenue de la Ronde\, Avrillé\, 49240\, France
CATEGORIES:Permanences
END:VEVENT
BEGIN:VEVENT
DTSTART;TZID=Europe/Paris:20211124T193000
DTEND;TZID=Europe/Paris:20211124T213000
DTSTAMP:20260425T030605
CREATED:20211106T074405Z
LAST-MODIFIED:20211106T074405Z
UID:1073-1637782200-1637789400@escaladescb.fr
SUMMARY:Permanence (Avrillé)
DESCRIPTION:
URL:https://escaladescb.fr/event/permanence-avrille-90/
LOCATION:Salle Marie Paradis\, Avenue de la Ronde\, Avrillé\, 49240\, France
CATEGORIES:Permanences
END:VEVENT
BEGIN:VEVENT
DTSTART;TZID=Europe/Paris:20211125T193000
DTEND;TZID=Europe/Paris:20211125T210000
DTSTAMP:20260425T030605
CREATED:20211106T074454Z
LAST-MODIFIED:20211106T074454Z
UID:1075-1637868600-1637874000@escaladescb.fr
SUMMARY:Permanence (Beaucouzé)
DESCRIPTION:
URL:https://escaladescb.fr/event/permanence-beaucouze-35/
LOCATION:Complexe Jacques Aubineau\, salle Pierre de Coubertin\, 5 Bis Avenue de la Grange aux Belles\, Beaucouzé\, 49070\, France
CATEGORIES:Permanences
END:VEVENT
BEGIN:VEVENT
DTSTART;TZID=Europe/Paris:20211126T200000
DTEND;TZID=Europe/Paris:20211126T220000
DTSTAMP:20260425T030605
CREATED:20211106T074516Z
LAST-MODIFIED:20211106T074516Z
UID:1077-1637956800-1637964000@escaladescb.fr
SUMMARY:Permanence (Avrillé)
DESCRIPTION:
URL:https://escaladescb.fr/event/permanence-avrille-91/
LOCATION:Salle Marie Paradis\, Avenue de la Ronde\, Avrillé\, 49240\, France
CATEGORIES:Permanences
END:VEVENT
BEGIN:VEVENT
DTSTART;TZID=Europe/Paris:20211130T203000
DTEND;TZID=Europe/Paris:20211130T223000
DTSTAMP:20260425T030605
CREATED:20211106T074615Z
LAST-MODIFIED:20211106T074615Z
UID:1081-1638304200-1638311400@escaladescb.fr
SUMMARY:Permanence (Avrillé)
DESCRIPTION:
URL:https://escaladescb.fr/event/permanence-avrille-93/
LOCATION:Salle Marie Paradis\, Avenue de la Ronde\, Avrillé\, 49240\, France
CATEGORIES:Permanences
END:VEVENT
END:VCALENDAR