BEGIN:VCALENDAR
VERSION:2.0
PRODID:-//SCB Escalade - ECPv6.15.20//NONSGML v1.0//EN
CALSCALE:GREGORIAN
METHOD:PUBLISH
X-ORIGINAL-URL:https://escaladescb.fr
X-WR-CALDESC:Évènements pour SCB Escalade
REFRESH-INTERVAL;VALUE=DURATION:PT1H
X-Robots-Tag:noindex
X-PUBLISHED-TTL:PT1H
BEGIN:VTIMEZONE
TZID:Europe/Paris
BEGIN:DAYLIGHT
TZOFFSETFROM:+0100
TZOFFSETTO:+0200
TZNAME:CEST
DTSTART:20200329T010000
END:DAYLIGHT
BEGIN:STANDARD
TZOFFSETFROM:+0200
TZOFFSETTO:+0100
TZNAME:CET
DTSTART:20201025T010000
END:STANDARD
BEGIN:DAYLIGHT
TZOFFSETFROM:+0100
TZOFFSETTO:+0200
TZNAME:CEST
DTSTART:20210328T010000
END:DAYLIGHT
BEGIN:STANDARD
TZOFFSETFROM:+0200
TZOFFSETTO:+0100
TZNAME:CET
DTSTART:20211031T010000
END:STANDARD
BEGIN:DAYLIGHT
TZOFFSETFROM:+0100
TZOFFSETTO:+0200
TZNAME:CEST
DTSTART:20220327T010000
END:DAYLIGHT
BEGIN:STANDARD
TZOFFSETFROM:+0200
TZOFFSETTO:+0100
TZNAME:CET
DTSTART:20221030T010000
END:STANDARD
END:VTIMEZONE
BEGIN:VEVENT
DTSTART;TZID=Europe/Paris:20211004T203000
DTEND;TZID=Europe/Paris:20211004T223000
DTSTAMP:20260425T033827
CREATED:20210919T194655Z
LAST-MODIFIED:20210919T194655Z
UID:989-1633379400-1633386600@escaladescb.fr
SUMMARY:Assemblée générale de la section escalade du SCB
DESCRIPTION:
URL:https://escaladescb.fr/event/assemblee-generale-de-la-section-escalade-du-scb/
LOCATION:Complexe Jacques Aubineau\, salle Pierre de Coubertin\, 5 Bis Avenue de la Grange aux Belles\, Beaucouzé\, 49070\, France
END:VEVENT
BEGIN:VEVENT
DTSTART;TZID=Europe/Paris:20211005T203000
DTEND;TZID=Europe/Paris:20211005T223000
DTSTAMP:20260425T033827
CREATED:20211003T185351Z
LAST-MODIFIED:20211003T185351Z
UID:995-1633465800-1633473000@escaladescb.fr
SUMMARY:Permanence (Avrillé)
DESCRIPTION:
URL:https://escaladescb.fr/event/permanence-avrille-64/
LOCATION:Salle Marie Paradis\, Avenue de la Ronde\, Avrillé\, 49240\, France
CATEGORIES:Permanences
END:VEVENT
BEGIN:VEVENT
DTSTART;TZID=Europe/Paris:20211006T193000
DTEND;TZID=Europe/Paris:20211006T213000
DTSTAMP:20260425T033827
CREATED:20211003T185436Z
LAST-MODIFIED:20211003T185436Z
UID:997-1633548600-1633555800@escaladescb.fr
SUMMARY:Permanence (Avrillé)
DESCRIPTION:
URL:https://escaladescb.fr/event/permanence-avrille-65/
LOCATION:Salle Marie Paradis\, Avenue de la Ronde\, Avrillé\, 49240\, France
CATEGORIES:Permanences
END:VEVENT
BEGIN:VEVENT
DTSTART;TZID=Europe/Paris:20211007T193000
DTEND;TZID=Europe/Paris:20211007T210000
DTSTAMP:20260425T033827
CREATED:20211003T185510Z
LAST-MODIFIED:20211003T185650Z
UID:999-1633635000-1633640400@escaladescb.fr
SUMMARY:Permanence (Beaucouzé)
DESCRIPTION:
URL:https://escaladescb.fr/event/permanence-beaucouze-25/
LOCATION:Complexe Jacques Aubineau\, salle Pierre de Coubertin\, 5 Bis Avenue de la Grange aux Belles\, Beaucouzé\, 49070\, France
CATEGORIES:Permanences
END:VEVENT
BEGIN:VEVENT
DTSTART;TZID=Europe/Paris:20211008T200000
DTEND;TZID=Europe/Paris:20211008T220000
DTSTAMP:20260425T033827
CREATED:20211003T185600Z
LAST-MODIFIED:20211003T185600Z
UID:1001-1633723200-1633730400@escaladescb.fr
SUMMARY:Permanence (Avrillé)
DESCRIPTION:
URL:https://escaladescb.fr/event/permanence-avrille-66/
LOCATION:Salle Marie Paradis\, Avenue de la Ronde\, Avrillé\, 49240\, France
CATEGORIES:Permanences
END:VEVENT
BEGIN:VEVENT
DTSTART;TZID=Europe/Paris:20211009T143000
DTEND;TZID=Europe/Paris:20211009T173000
DTSTAMP:20260425T033827
CREATED:20211003T185926Z
LAST-MODIFIED:20211003T185926Z
UID:1004-1633789800-1633800600@escaladescb.fr
SUMMARY:Permanence (Avrillé)
DESCRIPTION:
URL:https://escaladescb.fr/event/permanence-avrille-67/
LOCATION:Salle Marie Paradis\, Avenue de la Ronde\, Avrillé\, 49240\, France
CATEGORIES:Permanences
END:VEVENT
BEGIN:VEVENT
DTSTART;TZID=Europe/Paris:20211011T203000
DTEND;TZID=Europe/Paris:20211011T223000
DTSTAMP:20260425T033827
CREATED:20211003T190042Z
LAST-MODIFIED:20211003T190042Z
UID:1006-1633984200-1633991400@escaladescb.fr
SUMMARY:Permanence (Beaucouzé)
DESCRIPTION:
URL:https://escaladescb.fr/event/permanence-beaucouze-26/
LOCATION:Salle Marie Paradis\, Avenue de la Ronde\, Avrillé\, 49240\, France
CATEGORIES:Permanences
END:VEVENT
BEGIN:VEVENT
DTSTART;TZID=Europe/Paris:20211012T203000
DTEND;TZID=Europe/Paris:20211012T223000
DTSTAMP:20260425T033827
CREATED:20211003T190251Z
LAST-MODIFIED:20211003T190251Z
UID:1008-1634070600-1634077800@escaladescb.fr
SUMMARY:Permanence (Avrillé)
DESCRIPTION:
URL:https://escaladescb.fr/event/permanence-avrille-68/
LOCATION:Salle Marie Paradis\, Avenue de la Ronde\, Avrillé\, 49240\, France
CATEGORIES:Permanences
END:VEVENT
BEGIN:VEVENT
DTSTART;TZID=Europe/Paris:20211013T193000
DTEND;TZID=Europe/Paris:20211013T213000
DTSTAMP:20260425T033827
CREATED:20211003T190331Z
LAST-MODIFIED:20211003T190331Z
UID:1010-1634153400-1634160600@escaladescb.fr
SUMMARY:Permanence (Avrillé)
DESCRIPTION:
URL:https://escaladescb.fr/event/permanence-avrille-69/
LOCATION:Salle Marie Paradis\, Avenue de la Ronde\, Avrillé\, 49240\, France
CATEGORIES:Permanences
END:VEVENT
BEGIN:VEVENT
DTSTART;TZID=Europe/Paris:20211014T203000
DTEND;TZID=Europe/Paris:20211014T223000
DTSTAMP:20260425T033827
CREATED:20211003T190420Z
LAST-MODIFIED:20211003T190420Z
UID:1012-1634243400-1634250600@escaladescb.fr
SUMMARY:Permanence (Avrillé)
DESCRIPTION:
URL:https://escaladescb.fr/event/permanence-avrille-70/
LOCATION:Salle Marie Paradis\, Avenue de la Ronde\, Avrillé\, 49240\, France
CATEGORIES:Permanences
END:VEVENT
BEGIN:VEVENT
DTSTART;TZID=Europe/Paris:20211015T200000
DTEND;TZID=Europe/Paris:20211015T220000
DTSTAMP:20260425T033827
CREATED:20211003T190450Z
LAST-MODIFIED:20211003T190450Z
UID:1014-1634328000-1634335200@escaladescb.fr
SUMMARY:Permanence (Avrillé)
DESCRIPTION:
URL:https://escaladescb.fr/event/permanence-avrille-71/
LOCATION:Salle Marie Paradis\, Avenue de la Ronde\, Avrillé\, 49240\, France
CATEGORIES:Permanences
END:VEVENT
BEGIN:VEVENT
DTSTART;TZID=Europe/Paris:20211018T203000
DTEND;TZID=Europe/Paris:20211018T223000
DTSTAMP:20260425T033827
CREATED:20211003T190545Z
LAST-MODIFIED:20211003T190545Z
UID:1016-1634589000-1634596200@escaladescb.fr
SUMMARY:Permanence (Beaucouzé)
DESCRIPTION:
URL:https://escaladescb.fr/event/permanence-beaucouze-27/
LOCATION:Salle Marie Paradis\, Avenue de la Ronde\, Avrillé\, 49240\, France
CATEGORIES:Permanences
END:VEVENT
BEGIN:VEVENT
DTSTART;TZID=Europe/Paris:20211019T203000
DTEND;TZID=Europe/Paris:20211019T223000
DTSTAMP:20260425T033827
CREATED:20211003T190717Z
LAST-MODIFIED:20211003T190717Z
UID:1018-1634675400-1634682600@escaladescb.fr
SUMMARY:Permanence (Avrillé)
DESCRIPTION:
URL:https://escaladescb.fr/event/permanence-avrille-72/
LOCATION:Salle Marie Paradis\, Avenue de la Ronde\, Avrillé\, 49240\, France
CATEGORIES:Permanences
END:VEVENT
BEGIN:VEVENT
DTSTART;TZID=Europe/Paris:20211020T193000
DTEND;TZID=Europe/Paris:20211020T213000
DTSTAMP:20260425T033827
CREATED:20211003T190742Z
LAST-MODIFIED:20211003T190742Z
UID:1021-1634758200-1634765400@escaladescb.fr
SUMMARY:Permanence (Avrillé)
DESCRIPTION:
URL:https://escaladescb.fr/event/permanence-avrille-73/
LOCATION:Salle Marie Paradis\, Avenue de la Ronde\, Avrillé\, 49240\, France
CATEGORIES:Permanences
END:VEVENT
BEGIN:VEVENT
DTSTART;TZID=Europe/Paris:20211021T193000
DTEND;TZID=Europe/Paris:20211021T210000
DTSTAMP:20260425T033827
CREATED:20211003T190829Z
LAST-MODIFIED:20211003T190829Z
UID:1023-1634844600-1634850000@escaladescb.fr
SUMMARY:Permanence (Beaucouzé)
DESCRIPTION:
URL:https://escaladescb.fr/event/permanence-beaucouze-28/
LOCATION:Complexe Jacques Aubineau\, salle Pierre de Coubertin\, 5 Bis Avenue de la Grange aux Belles\, Beaucouzé\, 49070\, France
CATEGORIES:Permanences
END:VEVENT
BEGIN:VEVENT
DTSTART;TZID=Europe/Paris:20211022T200000
DTEND;TZID=Europe/Paris:20211022T220000
DTSTAMP:20260425T033827
CREATED:20211003T190917Z
LAST-MODIFIED:20211003T190917Z
UID:1026-1634932800-1634940000@escaladescb.fr
SUMMARY:Permanence (Avrillé)
DESCRIPTION:
URL:https://escaladescb.fr/event/permanence-avrille-74/
LOCATION:Salle Marie Paradis\, Avenue de la Ronde\, Avrillé\, 49240\, France
CATEGORIES:Permanences
END:VEVENT
BEGIN:VEVENT
DTSTART;TZID=Europe/Paris:20211023T143000
DTEND;TZID=Europe/Paris:20211023T173000
DTSTAMP:20260425T033827
CREATED:20211003T190954Z
LAST-MODIFIED:20211003T190954Z
UID:1029-1634999400-1635010200@escaladescb.fr
SUMMARY:Permanence (Avrillé)
DESCRIPTION:
URL:https://escaladescb.fr/event/permanence-avrille-75/
LOCATION:Salle Marie Paradis\, Avenue de la Ronde\, Avrillé\, 49240\, France
CATEGORIES:Permanences
END:VEVENT
BEGIN:VEVENT
DTSTART;TZID=Europe/Paris:20211025T193000
DTEND;TZID=Europe/Paris:20211025T223000
DTSTAMP:20260425T033827
CREATED:20211021T203548Z
LAST-MODIFIED:20211021T203548Z
UID:1032-1635190200-1635201000@escaladescb.fr
SUMMARY:Permanence (Avrillé)
DESCRIPTION:
URL:https://escaladescb.fr/event/permanence-avrille-76/
LOCATION:Salle Marie Paradis\, Avenue de la Ronde\, Avrillé\, 49240\, France
CATEGORIES:Permanences
END:VEVENT
BEGIN:VEVENT
DTSTART;TZID=Europe/Paris:20211026T193000
DTEND;TZID=Europe/Paris:20211026T223000
DTSTAMP:20260425T033827
CREATED:20211021T203738Z
LAST-MODIFIED:20211021T203738Z
UID:1034-1635276600-1635287400@escaladescb.fr
SUMMARY:Permanence (Beaucouzé)
DESCRIPTION:
URL:https://escaladescb.fr/event/permanence-beaucouze-29/
LOCATION:Complexe Jacques Aubineau\, salle Pierre de Coubertin\, 5 Bis Avenue de la Grange aux Belles\, Beaucouzé\, 49070\, France
CATEGORIES:Permanences
END:VEVENT
BEGIN:VEVENT
DTSTART;TZID=Europe/Paris:20211028T193000
DTEND;TZID=Europe/Paris:20211028T223000
DTSTAMP:20260425T033827
CREATED:20211021T203855Z
LAST-MODIFIED:20211021T203855Z
UID:1036-1635449400-1635460200@escaladescb.fr
SUMMARY:Permanence (Avrillé)
DESCRIPTION:
URL:https://escaladescb.fr/event/permanence-avrille-77/
LOCATION:Salle Marie Paradis\, Avenue de la Ronde\, Avrillé\, 49240\, France
CATEGORIES:Permanences
END:VEVENT
END:VCALENDAR