BEGIN:VCALENDAR
VERSION:2.0
PRODID:-//SCB Escalade - ECPv6.15.20//NONSGML v1.0//EN
CALSCALE:GREGORIAN
METHOD:PUBLISH
X-ORIGINAL-URL:https://escaladescb.fr
X-WR-CALDESC:Évènements pour SCB Escalade
REFRESH-INTERVAL;VALUE=DURATION:PT1H
X-Robots-Tag:noindex
X-PUBLISHED-TTL:PT1H
BEGIN:VTIMEZONE
TZID:Europe/Paris
BEGIN:DAYLIGHT
TZOFFSETFROM:+0100
TZOFFSETTO:+0200
TZNAME:CEST
DTSTART:20230326T010000
END:DAYLIGHT
BEGIN:STANDARD
TZOFFSETFROM:+0200
TZOFFSETTO:+0100
TZNAME:CET
DTSTART:20231029T010000
END:STANDARD
BEGIN:DAYLIGHT
TZOFFSETFROM:+0100
TZOFFSETTO:+0200
TZNAME:CEST
DTSTART:20240331T010000
END:DAYLIGHT
BEGIN:STANDARD
TZOFFSETFROM:+0200
TZOFFSETTO:+0100
TZNAME:CET
DTSTART:20241027T010000
END:STANDARD
BEGIN:DAYLIGHT
TZOFFSETFROM:+0100
TZOFFSETTO:+0200
TZNAME:CEST
DTSTART:20250330T010000
END:DAYLIGHT
BEGIN:STANDARD
TZOFFSETFROM:+0200
TZOFFSETTO:+0100
TZNAME:CET
DTSTART:20251026T010000
END:STANDARD
END:VTIMEZONE
BEGIN:VEVENT
DTSTART;TZID=Europe/Paris:20241124T090000
DTEND;TZID=Europe/Paris:20241124T120000
DTSTAMP:20260422T064735
CREATED:20241106T215320Z
LAST-MODIFIED:20241106T215320Z
UID:2650-1732438800-1732449600@escaladescb.fr
SUMMARY:Permanence (Avrillé)
DESCRIPTION:
URL:https://escaladescb.fr/event/permanence-avrille-480/
LOCATION:Salle Marie Paradis\, Avenue de la Ronde\, Avrillé\, 49240\, France
CATEGORIES:Permanences
END:VEVENT
BEGIN:VEVENT
DTSTART;TZID=Europe/Paris:20241124T090000
DTEND;TZID=Europe/Paris:20241124T123000
DTSTAMP:20260422T064735
CREATED:20241120T212446Z
LAST-MODIFIED:20241120T212645Z
UID:2727-1732438800-1732451400@escaladescb.fr
SUMMARY:Sortie Climb Up
DESCRIPTION:En raison du Gala de gymnastique\, la salle ne sera pas accessible du jeudi 21 ou samedi 23 novembre prochain. Les cours sont donc annulés sur ces 3 jours. \nEn remplacement\, nous vous proposons une sortie au Climb Up Les Ponts de Cé le dimanche 24 novembre. Le rendez vous se fera dès 9H00 au Climb Up\, ou 8H30 au parking de Beaucouzé pour les personnes ayant besoin d’être transportées. Par soucis d’organisation\, merci de nous prévenir dans ce cas là. La fin de l’événement se fera vers 12H30. Si certains doivent partir plus tôt\, vous restez libre de quitter la salle en prévenant Quentin. \nLa participation se fait sur inscription en prévenant votre encadrant de cours ou en laissant un mail à quentin.boinot@orange.fr . L’entrée à Climb Up étant payant\, nous vous demanderons aussi de régler 9€ avec votre inscription pour l’entrée à Climb Up.
URL:https://escaladescb.fr/event/sortie-climb-up/
CATEGORIES:Vie du club
END:VEVENT
END:VCALENDAR