BEGIN:VCALENDAR
VERSION:2.0
PRODID:-//SCB Escalade - ECPv6.15.20//NONSGML v1.0//EN
CALSCALE:GREGORIAN
METHOD:PUBLISH
X-WR-CALNAME:SCB Escalade
X-ORIGINAL-URL:https://escaladescb.fr
X-WR-CALDESC:Évènements pour SCB Escalade
REFRESH-INTERVAL;VALUE=DURATION:PT1H
X-Robots-Tag:noindex
X-PUBLISHED-TTL:PT1H
BEGIN:VTIMEZONE
TZID:Europe/Paris
BEGIN:DAYLIGHT
TZOFFSETFROM:+0100
TZOFFSETTO:+0200
TZNAME:CEST
DTSTART:20210328T010000
END:DAYLIGHT
BEGIN:STANDARD
TZOFFSETFROM:+0200
TZOFFSETTO:+0100
TZNAME:CET
DTSTART:20211031T010000
END:STANDARD
BEGIN:DAYLIGHT
TZOFFSETFROM:+0100
TZOFFSETTO:+0200
TZNAME:CEST
DTSTART:20220327T010000
END:DAYLIGHT
BEGIN:STANDARD
TZOFFSETFROM:+0200
TZOFFSETTO:+0100
TZNAME:CET
DTSTART:20221030T010000
END:STANDARD
BEGIN:DAYLIGHT
TZOFFSETFROM:+0100
TZOFFSETTO:+0200
TZNAME:CEST
DTSTART:20230326T010000
END:DAYLIGHT
BEGIN:STANDARD
TZOFFSETFROM:+0200
TZOFFSETTO:+0100
TZNAME:CET
DTSTART:20231029T010000
END:STANDARD
END:VTIMEZONE
BEGIN:VEVENT
DTSTART;VALUE=DATE:20220403
DTEND;VALUE=DATE:20220404
DTSTAMP:20260424T195942
CREATED:20220315T203733Z
LAST-MODIFIED:20220315T203749Z
UID:1259-1648944000-1649030399@escaladescb.fr
SUMMARY:MELT à Avrillé
DESCRIPTION:Nous donnons rendez-vous aux grimpeurs et grimpeuses le dimanche 3 Avril 2022 à Avrillé : \n\nL’épreuve du matin sera réservée à la catégorie Poussin (2011-2012)\nL’épreuve de l’après-midi est ouverte à partir des Minimes et + (2008 et plus agés)\n\nComme sur chaque étape\, nous avons besoin d’une personne pour assurer\, ou un juge\, tous les 5 grimpeurs inscrits en poussin. Les assureurs doivent obligatoirement être licenciés alors que les juges peuvent ne pas l’être. \nInformations supplémentaires : \n\nPas de restriction sanitaire >> Si changement\, nous reviendrons vers vous.\nPrésence d’une buvette et point de restauration.\n\nSi vous êtes intéressés pour participer\, merci de prévenir Quentin lors d’un cours ou par mail à quentin.boinot@orange.fr . Une participation de 2€ reste de rigueur et est à remettre lors de votre inscription\, aussi à Quentin. Nous demandons aux personnes déjà pré-inscrites de renouveler leurs inscription.
URL:https://escaladescb.fr/event/melt-a-avrille/
LOCATION:Salle Marie Paradis\, Avenue de la Ronde\, Avrillé\, 49240\, France
CATEGORIES:Compétition
END:VEVENT
END:VCALENDAR